BEGIN:VCALENDAR
VERSION:2.0
PRODID:-//La Pagina - ECPv5.5.0.1//NONSGML v1.0//EN
CALSCALE:GREGORIAN
METHOD:PUBLISH
X-WR-CALNAME:La Pagina
X-ORIGINAL-URL:https://lapagina.ch
X-WR-CALDESC:Events for La Pagina
BEGIN:VTIMEZONE
TZID:Europe/Zurich
BEGIN:DAYLIGHT
TZOFFSETFROM:+0100
TZOFFSETTO:+0200
TZNAME:CEST
DTSTART:20250330T010000
END:DAYLIGHT
BEGIN:STANDARD
TZOFFSETFROM:+0200
TZOFFSETTO:+0100
TZNAME:CET
DTSTART:20251026T010000
END:STANDARD
END:VTIMEZONE
BEGIN:VEVENT
DTSTART;TZID=Europe/Zurich:20250405T183000
DTEND;TZID=Europe/Zurich:20250405T183000
DTSTAMP:20260420T020900
CREATED:20250227T081707Z
LAST-MODIFIED:20250227T081707Z
UID:66684-1743877800-1743877800@lapagina.ch
SUMMARY:60°giubileo di fondazione dell'AVIS Zurigo
DESCRIPTION:60°giubileo di fondazione dell’AVIS Zurigo \nCon Paolo Franceschini \nDJ MATTEO\nBALLI DI GRUPPO LATINO AMERICANO – BACHATA – TANGO – VALZER – KIZOMBA – DISCO LISCIO – CUMBIA – POLKA – DISCO HOUSE \nAnimazione per bambini \nDiversi menù \nIngresso gratuito bambini fino ai 10 anni \nRiservazione obbligatoria telefonare allo 077 907 80 27 oppure scrivere a simili@hispeed.ch
URL:https://lapagina.ch/eventi/60giubileo-di-fondazione-dellavis-zurigo/
LOCATION:Stadthalle Dietikon\, Dietikon\, Svizzera
END:VEVENT
END:VCALENDAR