BEGIN:VCALENDAR
VERSION:2.0
PRODID:-//La Pagina - ECPv5.5.0.1//NONSGML v1.0//EN
CALSCALE:GREGORIAN
METHOD:PUBLISH
X-WR-CALNAME:La Pagina
X-ORIGINAL-URL:https://lapagina.ch
X-WR-CALDESC:Events for La Pagina
BEGIN:VTIMEZONE
TZID:Europe/Zurich
BEGIN:DAYLIGHT
TZOFFSETFROM:+0100
TZOFFSETTO:+0200
TZNAME:CEST
DTSTART:20240331T010000
END:DAYLIGHT
BEGIN:STANDARD
TZOFFSETFROM:+0200
TZOFFSETTO:+0100
TZNAME:CET
DTSTART:20241027T010000
END:STANDARD
END:VTIMEZONE
BEGIN:VEVENT
DTSTART;TZID=Europe/Zurich:20240614T180000
DTEND;TZID=Europe/Zurich:20240614T180000
DTSTAMP:20260421T094303
CREATED:20240517T073048Z
LAST-MODIFIED:20240517T073048Z
UID:65769-1718388000-1718388000@lapagina.ch
SUMMARY:Abracalabria
DESCRIPTION:Abracalabria \nVerso un nuovo Gran Tour \nNella Calabria extra- ordinaria il più ancestrale Made in Italy \nModera Cosimo La Torre \nCon la partecipazione di \nAvv. Lenin Montesanto\, Program Manager Marcatori Identitari Distintivi (MID) Regione Calabria \nAnnalisa Insardà\, Attrice \nPino Ambrosio\, Autore: Ferramonti storia di una vita
URL:https://lapagina.ch/eventi/abracalabria/
LOCATION:Hotel Marina Lachen
END:VEVENT
END:VCALENDAR