BEGIN:VCALENDAR
VERSION:2.0
PRODID:-//La Pagina - ECPv5.5.0.1//NONSGML v1.0//EN
CALSCALE:GREGORIAN
METHOD:PUBLISH
X-WR-CALNAME:La Pagina
X-ORIGINAL-URL:https://lapagina.ch
X-WR-CALDESC:Events for La Pagina
BEGIN:VTIMEZONE
TZID:Europe/Zurich
BEGIN:DAYLIGHT
TZOFFSETFROM:+0100
TZOFFSETTO:+0200
TZNAME:CEST
DTSTART:20230326T010000
END:DAYLIGHT
BEGIN:STANDARD
TZOFFSETFROM:+0200
TZOFFSETTO:+0100
TZNAME:CET
DTSTART:20231029T010000
END:STANDARD
END:VTIMEZONE
BEGIN:VEVENT
DTSTART;TZID=Europe/Zurich:20230425T190000
DTEND;TZID=Europe/Zurich:20230425T190000
DTSTAMP:20260424T195643
CREATED:20230403T071126Z
LAST-MODIFIED:20230403T071126Z
UID:64188-1682449200-1682449200@lapagina.ch
SUMMARY:Celebrazione della Festa della Liberazione del 25 Aprile
DESCRIPTION:Il Comitato XXV Aprile di Zurigo invita alla celebrazione della Festa della Liberazione del 25 Aprile e dei 75 anni dall’entrata in vigore della Costituzione italiana \n25 Aprile Festa della Liberazione: impegno per la democrazia \nCon il patrocinio del Consolato Generale d’Italia a Zurigo \nProgramma: \nIntroduzione dei Co-Presidenti del Comitato\nAlessandra Cesari / Salvatore Di Concilio \nSaluto\ndel Console Generale d’Italia\nMinistro Plenipotenziario Gabriele Altana \nInterventi di \nToni Ricciardi\n(Camera dei Deputati\, Parlamento italiano) \nJon Pult\n(Vicepresidente Partito socialista svizzero) \nPresentazione dell’evento autunnale 2023 del Comitato XXV Aprile\nAlessandra Cesari (Co-Presidente Comitato XXV Aprile di Zurigo) \nPresentazione del Premio Sandro Pedroli\nDontella Pedroli e Laura Nembri (Presidente e Vicepresidente\ndel Comitato Premio Sandro Pedroli) \nDurante le celebrazioni ci allieterà\nIl coro Kultur und Volk \nSegue rinfresco \nTutte e tutti sono cordialmente invitati a partecipare \n  \nIl Comitato XXV Aprile di Zurigo\nnon riceve contributi pubblici\, le sue attività sono finanziate unicamente con contributi volontari dei suoi sostenitori che versano una quota annuale di CHF 30.- e alcune Associazioni e Enti che versano CHF 100.-. Se volete sostenerci\, vi diamo il nostro conto postale che è: 87-64340-4\, IBAN: CH34 0900 0000 8706 4340 4 \nGrazie sin d’ora per il vostro sostegno
URL:https://lapagina.ch/eventi/celebrazione-della-festa-della-liberazione-del-25-aprile/
LOCATION:Quartierzentrum Aussersihl\, Hohlstrasse 67\, Zurigo
END:VEVENT
END:VCALENDAR