BEGIN:VCALENDAR
VERSION:2.0
PRODID:-//La Pagina - ECPv5.5.0.1//NONSGML v1.0//EN
CALSCALE:GREGORIAN
METHOD:PUBLISH
X-WR-CALNAME:La Pagina
X-ORIGINAL-URL:https://lapagina.ch
X-WR-CALDESC:Events for La Pagina
BEGIN:VTIMEZONE
TZID:Europe/Helsinki
BEGIN:DAYLIGHT
TZOFFSETFROM:+0200
TZOFFSETTO:+0300
TZNAME:EEST
DTSTART:20190331T010000
END:DAYLIGHT
BEGIN:STANDARD
TZOFFSETFROM:+0300
TZOFFSETTO:+0200
TZNAME:EET
DTSTART:20191027T010000
END:STANDARD
END:VTIMEZONE
BEGIN:VEVENT
DTSTART;TZID=Europe/Helsinki:20190622T180000
DTEND;TZID=Europe/Helsinki:20190622T233000
DTSTAMP:20260420T120537
CREATED:20190522T091824Z
LAST-MODIFIED:20190522T091824Z
UID:53221-1561226400-1561246200@lapagina.ch
SUMMARY:Cena per bambini della Colombia
DESCRIPTION:organizza: Comitato Casa Accoglienza Bambini poveri Colombia \ndove: Pfarreizentrum Leepünt \nCena compreso le bevande costa Fr. 60.- \nAllieterà la serata un complesso a sorpresa con musica e grande ballo fino a notte inoltrata. \nSi prega di annunciarsi a \nGiovanni Papadia: 052 364 20 33 \nElena Fusco: 044 820 23 86 \nRosita Pepe: 078 891 09 50
URL:https://lapagina.ch/eventi/cena-per-bambini-della-colombia/
LOCATION:Pfarreizentrum Leepünt\, Dübendorf\, Svizzera
CATEGORIES:Appuntamenti / Associazioni
END:VEVENT
END:VCALENDAR