BEGIN:VCALENDAR
VERSION:2.0
PRODID:-//La Pagina - ECPv5.5.0.1//NONSGML v1.0//EN
CALSCALE:GREGORIAN
METHOD:PUBLISH
X-WR-CALNAME:La Pagina
X-ORIGINAL-URL:https://lapagina.ch
X-WR-CALDESC:Events for La Pagina
BEGIN:VTIMEZONE
TZID:Europe/Zurich
BEGIN:DAYLIGHT
TZOFFSETFROM:+0100
TZOFFSETTO:+0200
TZNAME:CEST
DTSTART:20240331T010000
END:DAYLIGHT
BEGIN:STANDARD
TZOFFSETFROM:+0200
TZOFFSETTO:+0100
TZNAME:CET
DTSTART:20241027T010000
END:STANDARD
END:VTIMEZONE
BEGIN:VEVENT
DTSTART;TZID=Europe/Zurich:20240316T170000
DTEND;TZID=Europe/Zurich:20240316T170000
DTSTAMP:20260423T073745
CREATED:20240301T085518Z
LAST-MODIFIED:20240301T085518Z
UID:65450-1710608400-1710608400@lapagina.ch
SUMMARY:"CINEMA E SARDEGNA - SARDEGNA E CINEMA": L'uomo che comprò la Luna
DESCRIPTION:L’ASSOCIAZIONE CULTURATE SARDA “EFISIO RACIS’ di ZURIGO con la collaborazione della\nFEDERAZIONE DEI CIRCOLI SARDI IN SVIZZERA\ne con il patrocinio della\nREGIONE AUTONOMA DELLA SARDEGNA \nProietta\, per il ciclo\n“CINEMA E SARDEGNA – SARDEGNA E CINEMA”\nlL FILM COMMEDIA del2018 \n“L’uomo che comprò la Luna” di Paolo Zucca\, ambientato in Sardegna \n\n\n\nTrama: Una coppia di agenti segreti italiani (Stefano Fresi e Francesco Pannofino) riceve una soffiata dagli Stati Uniti: pare che qualcuno\, in Sardegna\, sia diventato proprietario della luna. ll che\, dal punto di vista degli americani\, è inaccettabile\, visto che i primi a metterci piede\, e a piantarci la bandiera nazionale\, sono stati loro. I due agenti reclutano dunque un soldato (Jacopo Cullin) che\, dietro il falso nome di Kevin Pirelli e un marcato accento milanese\,nasconde la propria identità sarda: si chiama infatti Gavino Zoccheddu e la Sardegna ce I’ha dentro anche se non lo sa. Per trasformarlo in un vero sardo viene ingaggiato un formatore culturale sui generis (Benito Urgu). A questo punto non rimane che risolvere il caso: chi ha comprato la luna? E perchè?\nPrima della proiezione sarà letta un’introduzione al film preparata da Stefano Lai (musicologo & romanista\, lic. phil.). \nll circolo sardo di Zurigo è lieto di invitare tutti i membri e gli amici della Sardegna a questo evento culturale. Dopo la proiezione sarà offerto a tutti i partecipanti\, un rinfresco. INGRESSO LIBERO. \nScarica qui il volantino
URL:https://lapagina.ch/eventi/cinema-e-sardegna-sardegna-e-cinema-luomo-che-compro-la-luna/
LOCATION:Kalkbreitesaal del Kulturmarkt\, Aemtlerstrasse 23\, Zurigo\, 8003\, Switzerland
END:VEVENT
END:VCALENDAR