BEGIN:VCALENDAR
VERSION:2.0
PRODID:-//La Pagina - ECPv5.5.0.1//NONSGML v1.0//EN
CALSCALE:GREGORIAN
METHOD:PUBLISH
X-WR-CALNAME:La Pagina
X-ORIGINAL-URL:https://lapagina.ch
X-WR-CALDESC:Events for La Pagina
BEGIN:VTIMEZONE
TZID:Europe/Zurich
BEGIN:DAYLIGHT
TZOFFSETFROM:+0100
TZOFFSETTO:+0200
TZNAME:CEST
DTSTART:20230326T010000
END:DAYLIGHT
BEGIN:STANDARD
TZOFFSETFROM:+0200
TZOFFSETTO:+0100
TZNAME:CET
DTSTART:20231029T010000
END:STANDARD
END:VTIMEZONE
BEGIN:VEVENT
DTSTART;TZID=Europe/Zurich:20230413T190000
DTEND;TZID=Europe/Zurich:20230413T190000
DTSTAMP:20260420T041824
CREATED:20230331T072426Z
LAST-MODIFIED:20230331T072426Z
UID:64158-1681412400-1681412400@lapagina.ch
SUMMARY:Concerto SUL FILO DEGLI AFFETTI: IL SOGNO DI ARIANNA
DESCRIPTION:Concerto a Zurigo di Arianna Lanci (mezzosoprano)\, Verena Laxgang (violoncello barocco) e Chiara Cattani (clavicembalo). Con musiche di J.B. Barrière\, A. Bembo\, F. Geminiani\, E.C.J. de La Guerre\, C. Monteverdi\, A. Scarlatti\, B. Strozzi. \nFigura mitologica e letteraria\, alla quale si legano fin dall’antichità molteplici letture poetiche\, musicali ed iconografiche\, Arianna rappresenta nel repertorio vocale di epoca barocca il simbolo della donna la cui cifra è una condizione esistenziale ed emotiva estrema\, eccessiva. \nIngresso libero\, posti limitati. Prenota ora cliccando > qui. 
URL:https://lapagina.ch/eventi/concerto-sul-filo-degli-affetti-il-sogno-di-arianna/
LOCATION:Schulhaus Hirschengraben Zurigo\, Hirschengraben 46\, Zurigo\, 8001\, Switzerland
END:VEVENT
END:VCALENDAR