BEGIN:VCALENDAR
VERSION:2.0
PRODID:-//La Pagina - ECPv5.5.0.1//NONSGML v1.0//EN
CALSCALE:GREGORIAN
METHOD:PUBLISH
X-WR-CALNAME:La Pagina
X-ORIGINAL-URL:https://lapagina.ch
X-WR-CALDESC:Events for La Pagina
BEGIN:VTIMEZONE
TZID:Europe/Zurich
BEGIN:DAYLIGHT
TZOFFSETFROM:+0100
TZOFFSETTO:+0200
TZNAME:CEST
DTSTART:20250330T010000
END:DAYLIGHT
BEGIN:STANDARD
TZOFFSETFROM:+0200
TZOFFSETTO:+0100
TZNAME:CET
DTSTART:20251026T010000
END:STANDARD
END:VTIMEZONE
BEGIN:VEVENT
DTSTART;TZID=Europe/Zurich:20250429T180000
DTEND;TZID=Europe/Zurich:20250429T180000
DTSTAMP:20260419T222807
CREATED:20250412T081732Z
LAST-MODIFIED:20250412T081732Z
UID:66833-1745949600-1745949600@lapagina.ch
SUMMARY:Conferenza con Gianrico Carofiglio
DESCRIPTION:Istituto Italiano di Cultura di Zurigo\, Cattedra di Linguistica italiana (Prof. Michele Loporcaro) e Cattedra di Letteratura italiana (Prof. Johannes Bartuschat) \norganizzano \nConferenza con Gianrico Carofiglio \n  \nAutore di romanzi di successo\, Carofiglio è noto anche per le sue riflessioni sul linguaggio\, la giustizia e la società. È spesso ospite di programmi televisivi italiani come “Otto e mezzo”\, “L’aria che tira” e “DiMartedì”\, dove interviene in qualità di commentatore e intellettuale. \nScarica qui il volantino
URL:https://lapagina.ch/eventi/conferenza-con-gianrico-carofiglio/
LOCATION:Università Zurigo KOL-G-201\, Rämistrasse 71\, Zurigo\, Switzerland
END:VEVENT
END:VCALENDAR