BEGIN:VCALENDAR
VERSION:2.0
PRODID:-//La Pagina - ECPv5.5.0.1//NONSGML v1.0//EN
CALSCALE:GREGORIAN
METHOD:PUBLISH
X-WR-CALNAME:La Pagina
X-ORIGINAL-URL:https://lapagina.ch
X-WR-CALDESC:Events for La Pagina
BEGIN:VTIMEZONE
TZID:Europe/Zurich
BEGIN:DAYLIGHT
TZOFFSETFROM:+0100
TZOFFSETTO:+0200
TZNAME:CEST
DTSTART:20230326T010000
END:DAYLIGHT
BEGIN:STANDARD
TZOFFSETFROM:+0200
TZOFFSETTO:+0100
TZNAME:CET
DTSTART:20231029T010000
END:STANDARD
END:VTIMEZONE
BEGIN:VEVENT
DTSTART;TZID=Europe/Zurich:20230513T180000
DTEND;TZID=Europe/Zurich:20230513T180000
DTSTAMP:20260425T010105
CREATED:20230502T200306Z
LAST-MODIFIED:20230502T200306Z
UID:64315-1684000800-1684000800@lapagina.ch
SUMMARY:Conferenza: La casa in Italia degli emigrati\, dove conviene trascorrere la terza età?
DESCRIPTION:IL CIRCOLO SARDO “EFISIO RACIS” DI ZURIGO \nin collaborazione con la \nFEDERAZIONE DEI CIRCOLI SARDI IN SVIZZERA \ne con il patrocinio della \nREGIONE AUTONOMA DELLA SARDEGNA \nORGANIZZA \n\n\n\nUNA CONFERENZA INFORMATIVA \n\n\n\n\nLA CASA IN ITALIA DEGLI EMIGRATI\, DOVE CONVIENE TRASCORRERE\nLA TERZA ETÀ? \n\n\n\n\n\n\nI COSTI DI MANTENIMENTO (UTENZE\, IMU\, TARI\, FISCO) SONO ORAMAI DIVENTATI INSOPPORTABILI PER I PENSIONATI\nLa riduzione dell’imposta IMU per i pensionati residenti all’estero con pensione maturata in convenzione internazionale con l’Italia torna ad essere pari al 50% dopo che\, solo per il 2022\, era stata portata al 62\,5% (imposta ridotta al 37\,5% – Art. 1\, 743\, Legge 234/2021). \n\n\n\nRelatore: DINO NARDI\nESPERTO DELLA RUBRICA SOCIALE del settimanale L’ECO \nIl circolo sardo di Zurigo è lieto di invitare tutti i suoi membri e simpatizzanti a questa importante conferenza \nINGRESSO LIBERO – AL TERMINE IL CIRCOLO OFFRIRÀ UN APERITIVO \nInformazioni utili per raggiungere il luogo della conferenza:\nLa Sede del Circolo si trova nella Wydäckerring 148\, 8047 Zurigo (la fermata più vicina è “In der Ey” del Bus linea 33 e 80) \nScarica qui il volantino
URL:https://lapagina.ch/eventi/conferenza-la-casa-in-italia-degli-emigrati-dove-conviene-trascorrere-la-terza-eta/
LOCATION:Sede sociale Circolo Sardo “EFISIO RACIS” di Zurigo\, Wydäckerring 148\, 8047 Zürich\, Svizzera
ORGANIZER;CN="Circolo%20Sardo%20%22Efisio%20Racis%22%20di%20Zurigo":MAILTO:sardizurigo@bluewin.ch
END:VEVENT
END:VCALENDAR