BEGIN:VCALENDAR
VERSION:2.0
PRODID:-//La Pagina - ECPv5.5.0.1//NONSGML v1.0//EN
CALSCALE:GREGORIAN
METHOD:PUBLISH
X-WR-CALNAME:La Pagina
X-ORIGINAL-URL:https://lapagina.ch
X-WR-CALDESC:Events for La Pagina
BEGIN:VTIMEZONE
TZID:Europe/Zurich
BEGIN:DAYLIGHT
TZOFFSETFROM:+0100
TZOFFSETTO:+0200
TZNAME:CEST
DTSTART:20250330T010000
END:DAYLIGHT
BEGIN:STANDARD
TZOFFSETFROM:+0200
TZOFFSETTO:+0100
TZNAME:CET
DTSTART:20251026T010000
END:STANDARD
END:VTIMEZONE
BEGIN:VEVENT
DTSTART;TZID=Europe/Zurich:20250327T181500
DTEND;TZID=Europe/Zurich:20250327T181500
DTSTAMP:20260420T040459
CREATED:20250227T082134Z
LAST-MODIFIED:20250227T082134Z
UID:66688-1743099300-1743099300@lapagina.ch
SUMMARY:Conferenza "L'Italia come narrazione"
DESCRIPTION:ASRI Basilea organizza \nConferenza “L’Italia come narrazione”\, tenuta dal prof. Luigi Zoja \nLe caratteristiche di un territorio e degli abitanti che lo abitano sono difficili da definire. Che cosa siano gli italiani e l’Italia è una domanda alla quale in molti hanno provato a rispondere: Dante\, Petrarca\, Guicciardini\, Leopardi. Fino a Giulio Bollati\, che a lungo ragionò sul carattere distintivo degli italiani.  \nLe nazioni sono in buona parte un prodotto dell’immaginazione\, ma l’Italia lo è molto più delle altre\, essendo il punto d’arrivo anche di una enorme quantità di fantasie non italiane. A partire dal Rinascimento\, infatti\, le classi colte d’Europa completavano la loro educazione con un viaggio in Italia\, sebbene più per conoscerne le antichità che gli abitanti reali.  \nL’Italia dei mille comuni\, divisa e militarmente debole era giunta al «vertice» del mondo. Da lì si è avuto un inesorabile ripiegamento\, e si è pian piano sedimentata l’idea potente di nazione unita e di una grandezza passata da riconquistare\, mentre quasi ogni primato lasciava la Penisola. L’idea di Italia ha così conosciuto un lento declino\, compensato da una narrazione inconscia sempre più bellicosa\, retorica e vuota\, fino al mito fascista della rinascita dell’impero. Significativamente\, è solo dopo il 1945 che l’Italia torna davvero a un vertice creativo: con il cinema\, che restituisce centralità agli antieroi\, a quegli umili che già il Rinascimento aveva celebrato.  \n  \n  \nLuigi Zoja\, nato nel 1943\, si è diplomato nel 1974 al C.G. Jung Institut di Zurigo. Ha lavorato in clinica a Zurigo\, poi privatamente a Milano\, a New York e ora nuovamente a Milano come psicoanalista. È stato presidente del CIPA (Centro Italiano di Psicologia Analitica) dal 1984 al 1993. Dal 1998 al 2001 è stato presidente della IAAP (International Association for Analytical Psychology)\, l’Associazione che raggruppa gli analisti junghiani nel mondo\, poi Presidente del Comitato Etico Internazionale della stessa. Già docente presso il C.G. Jung Institut di Zurigo\, presso l’Università dell’Insubria e l’Università di Macao (Cina). 
URL:https://lapagina.ch/eventi/conferenza-litalia-come-narrazione/
LOCATION:Aula 117 Università di Basilea\, Petersplatz 1 \, Basilea\, Switzerland
ORGANIZER;CN="ASRI%20Basilea":MAILTO:info@asri-basilea.ch
END:VEVENT
END:VCALENDAR