BEGIN:VCALENDAR
VERSION:2.0
PRODID:-//La Pagina - ECPv5.5.0.1//NONSGML v1.0//EN
CALSCALE:GREGORIAN
METHOD:PUBLISH
X-WR-CALNAME:La Pagina
X-ORIGINAL-URL:https://lapagina.ch
X-WR-CALDESC:Events for La Pagina
BEGIN:VTIMEZONE
TZID:Europe/Zurich
BEGIN:DAYLIGHT
TZOFFSETFROM:+0100
TZOFFSETTO:+0200
TZNAME:CEST
DTSTART:20250330T010000
END:DAYLIGHT
BEGIN:STANDARD
TZOFFSETFROM:+0200
TZOFFSETTO:+0100
TZNAME:CET
DTSTART:20251026T010000
END:STANDARD
END:VTIMEZONE
BEGIN:VEVENT
DTSTART;TZID=Europe/Zurich:20250906T170000
DTEND;TZID=Europe/Zurich:20250906T170000
DTSTAMP:20260419T155205
CREATED:20250903T084758Z
LAST-MODIFIED:20250903T084758Z
UID:67143-1757178000-1757178000@lapagina.ch
SUMMARY:Conferenza su “MESTIERI E CUCINA NEL MEDIOEVO”
DESCRIPTION:SOCIETA’ DANTE ALIGHIERI \nCOMITATO DI BIENNA \norganizza \nCONFERENZA (CON SUPPORTO POWERPOINT) \nPROF.SSA MARIA RITA SILVESTRELLI\, PERUGIA \n“MESTIERI E CUCINA NEL MEDIOEVO” \n  \nSul tema della conferenza\, la Relatrice ci scrive: “La società medievale è raccontata attraverso l’analisi di immagini che mostrano i mestieri più comuni dell’epoca. Pittori\, ceramisti\, architetti e scultori intenti al loro lavoro nei cantieri e nelle botteghe. Attraverso l’analisi di alcuni testi e particolari “ricette” si esaminano le abitudini legate alla vita quotidiana a cominciare dalla preparazione di cibi in occasioni di feste civili o nelle comunità religiose. “Gola e preghiera” secondo una felice definizione di una storica perugina.” \nMaria Rita Silvestrelli – nostra apprezzatissima Relatrice\, amica e guida in diversi nostri viaggi culturali – è storica dell’arte e docente all’Università per Stranieri di Perugia. Ha organizzato corsi specialistici e di aggiornamento. È referente e coordinatrice delle attività d’Ateneo per Biennale Sessions (La Biennale di Venezia). Ha fatto parte dei comitati scientifici delle mostre umbre su Arnolfo di Cambio e Pintoricchio. A Roma La Misericordia nell’ Arte (2016)\, a Bergamo Raffaello e l’eco del mito (2018). Nel 2021 ha curato con Andrea De Marchi la mostra Ottaviano Nelli e il ‘400 a Gubbio. Molte sono le sue pubblicazioni sui cantieri medievali. Coautrice di una monografia dedicata a Pintoricchio (Milano 2004)\, ha scritto numerosi saggi sulla pittura del Rinascimento. Da ultimo è stata organizzatrice del Convegno di Studi Perugino pittore per tutto l’universo mondo\, tenutosi presso l’Università per Stranieri di Perugia nel febbraio 2023 e cocuratrice del volume degli Atti. \nDopo la conferenza\, avremo la possibilità di cenare insieme alla Relatrice presso la nostra Sede (costo: fr. 25.-\, bevande comprese!). Vogliate per favore iscriverVi entro giovedì 4 settembre\, chiamando lo 079/703’54’79 (presidente) o mandando una mail a: dante.bienna@bluewin.ch \nScarica qui il volantino
URL:https://lapagina.ch/eventi/conferenza-su-mestieri-e-cucina-nel-medioevo/
LOCATION:Casa parrocchiale S. Nicolao\, Via Aebi 86\, Bienne\, Switzerland
END:VEVENT
END:VCALENDAR