BEGIN:VCALENDAR
VERSION:2.0
PRODID:-//La Pagina - ECPv5.5.0.1//NONSGML v1.0//EN
CALSCALE:GREGORIAN
METHOD:PUBLISH
X-WR-CALNAME:La Pagina
X-ORIGINAL-URL:https://lapagina.ch
X-WR-CALDESC:Events for La Pagina
BEGIN:VTIMEZONE
TZID:Europe/Zurich
BEGIN:DAYLIGHT
TZOFFSETFROM:+0100
TZOFFSETTO:+0200
TZNAME:CEST
DTSTART:20230326T010000
END:DAYLIGHT
BEGIN:STANDARD
TZOFFSETFROM:+0200
TZOFFSETTO:+0100
TZNAME:CET
DTSTART:20231029T010000
END:STANDARD
END:VTIMEZONE
BEGIN:VEVENT
DTSTART;TZID=Europe/Zurich:20230616T080000
DTEND;TZID=Europe/Zurich:20230831T170000
DTSTAMP:20260424T222524
CREATED:20230525T191129Z
LAST-MODIFIED:20230525T191257Z
UID:64444-1686902400-1693501200@lapagina.ch
SUMMARY:Congresso dei Testimoni di Geova «Siate pazienti»
DESCRIPTION:Congresso dei Testimoni di Geova «Siate pazienti»\nCos’è la vera pazienza\, perché ne abbiamo bisogno e cosa può aiutarci a svilupparla? \nSei invitato ad assistere di persona al congresso che si svolgerà nei mesi di giugno\, luglio e agosto\, a partire dal 16 giugno 2023. L’ingresso è gratuito e non si faranno collette. \nConsulta il programma completo:\nhttps://www.jw.org/it/biblioteca-digitale/libri/Programma-del-congresso-del-2023/ \nTrova il congresso più vicino a te:\nhttps://apps.jw.org/ui/I/meeting-search.html#/conventions/search/I/La%20tua%20zona/47.370878\,8.520406/@47.605421\,7.90109\,9z  \nGuarda un’anteprima:\nhttps://www.jw.org/it/biblioteca-digitale/video/#it/mediaitems/MeetingsConventions/pub-jwb-096_5_VIDEO
URL:https://lapagina.ch/eventi/congresso-dei-testimoni-di-geova-siate-pazienti/
END:VEVENT
END:VCALENDAR