BEGIN:VCALENDAR
VERSION:2.0
PRODID:-//La Pagina - ECPv5.5.0.1//NONSGML v1.0//EN
CALSCALE:GREGORIAN
METHOD:PUBLISH
X-WR-CALNAME:La Pagina
X-ORIGINAL-URL:https://lapagina.ch
X-WR-CALDESC:Events for La Pagina
BEGIN:VTIMEZONE
TZID:Europe/Zurich
BEGIN:DAYLIGHT
TZOFFSETFROM:+0100
TZOFFSETTO:+0200
TZNAME:CEST
DTSTART:20230326T010000
END:DAYLIGHT
BEGIN:STANDARD
TZOFFSETFROM:+0200
TZOFFSETTO:+0100
TZNAME:CET
DTSTART:20231029T010000
END:STANDARD
END:VTIMEZONE
BEGIN:VEVENT
DTSTART;TZID=Europe/Zurich:20230920T180000
DTEND;TZID=Europe/Zurich:20230922T120000
DTSTAMP:20260424T184502
CREATED:20230831T120308Z
LAST-MODIFIED:20230831T120308Z
UID:64707-1695232800-1695384000@lapagina.ch
SUMMARY:Convegno Voci sul Purgatorio di Dante via Zoom
DESCRIPTION:VOCI SUL PURGATORIO DI DANTE\nUna nuova lettura della seconda cantica\n2022 – 2023 \n\n\n\n\nPURGATORIO XV-XXI \nBasilea\, 20-22 settembre 2023 – via Zoom \nchiedere il link di accesso a VociDante-dslw@unibas.ch \na cura di \nZygmunt G. Barański e Maria Antonietta Terzoli \nMURIEL MARIA STELLA BARBERO (Universität Basel)\nZYGMUNT G. BARAŃSKI (University of Notre Dame) – GIORGIO INGLESE (Università di Roma La Sapienza) – GIUSEPPE LEDDA (Università di Bologna) MARIA ANTONIETTA TERZOLI (Universität Basel) \n\n\n\n\nProgramma (scarica qui il programma): \nMercoledì 20 settembre 2023 \nvia Zoom \n18.00 Saluto dell’Ambasciatore d’Italia in Svizzera S.E. SILVIO MIGNANO\nProf. Dr. MARIA ANTONIETTA TERZOLI (Universität Basel)\nProf. Dr. ZYGMUNT G. BARAŃSKI (University of Notre Dame) \nIntroduzione \n18.15 Prof. Dr. GIORGIO INGLESE (Università di Roma La Sapienza)\nBiografia e trasmissione testuale del ‘Purgatorio’\nDiscussione \n\n\n\n\nGiovedì 21 settembre 2023 \nvia Zoom \n9.00 Apertura dei lavori\nProf. Dr. MARIA ANTONIETTA TERZOLI (Universität Basel)\nProf. Dr. ZYGMUNT BARAŃSKI (University of Notre Dame) \n\n\n9.10 Presiede Prof. Dr. MARIA ANTONIETTA TERZOLI (Universität Basel)\nM.A. MURIEL MARIA STELLA BARBERO (Universität Basel)\nLettura e interpretazione del canto XXVIII \n\n\n\n\n10.00 Discussione \n10.30 PAUSA \n11.00 Presiede Prof. Dr. ZYGMUNT G. BARAŃSKI (University of Notre Dame)\nM.A. MURIEL MARIA STELLA BARBERO (Universität Basel)\nLettura e interpretazione del canto XXIX \n11.50 Discussione \n12.20 PAUSA PRANZO \n14.00 Presiede Prof. Dr. GIORGIO INGLESE (Università di Roma La Sapienza)\nMARIA ANTONIETTA TERZOLI (Universität Basel)\nLettura e interpretazione del canto XXX \n14.50 Discussione \n15.20 PAUSA \n15.50 Presiede Prof. Dr. ZYGMUNT G. BARAŃSKI (University of Notre Dame)\nProf. Dr. GIUSEPPE LEDDA\n(Università di Bologna)\nLettura e interpretazione del canto XXXI \n16.40 Discussione\n17.10 Chiusura della giornata \n\n\n\n\nVenerdì 22 settembre 2023 \nvia Zoom \n\n\n\n\n\n\n\n\n\n\n\n9.00 Presiede M.A. MURIEL MARIA STELLA BARBERO (Universität Basel)\nProf. Dr. GIUSEPPE LEDDA (Università di Bologna)\nLettura e interpretazione del canto XXXII \n\n\n\n\n9.50 Discussione \n10.20 PAUSA \n10.50 Presiede Prof. Dr. GIUSEPPE LEDDA (Università di Bologna)\nProf. Dr. ZYGMUNT G. BARAŃSKI (University of Notre Dame)\nLettura e interpretazione del canto XXXIII \n11.40 Discussione\n12.10 Chiusura dei lavori
URL:https://lapagina.ch/eventi/convegno-voci-sul-purgatorio-di-dante-via-zoom/
END:VEVENT
END:VCALENDAR