BEGIN:VCALENDAR
VERSION:2.0
PRODID:-//La Pagina - ECPv5.5.0.1//NONSGML v1.0//EN
CALSCALE:GREGORIAN
METHOD:PUBLISH
X-WR-CALNAME:La Pagina
X-ORIGINAL-URL:https://lapagina.ch
X-WR-CALDESC:Events for La Pagina
BEGIN:VTIMEZONE
TZID:Europe/Zurich
BEGIN:DAYLIGHT
TZOFFSETFROM:+0100
TZOFFSETTO:+0200
TZNAME:CEST
DTSTART:20230326T010000
END:DAYLIGHT
BEGIN:STANDARD
TZOFFSETFROM:+0200
TZOFFSETTO:+0100
TZNAME:CET
DTSTART:20231029T010000
END:STANDARD
END:VTIMEZONE
BEGIN:VEVENT
DTSTART;TZID=Europe/Zurich:20230420T190000
DTEND;TZID=Europe/Zurich:20230420T190000
DTSTAMP:20260424T173225
CREATED:20230331T072914Z
LAST-MODIFIED:20230331T072914Z
UID:64169-1682017200-1682017200@lapagina.ch
SUMMARY:“Della tranquillità dell’animo”: incontro con Victoria Lorini
DESCRIPTION:Incontro con la traduttrice Victoria Lorini che presenterà “Della tranquillità dell’animo” di Leon Battista Alberti\, nella versione tedesca dal titolo “Über die Seelenruhe” e la filosofa e storica dell’arte Hana Gründler. Incontro in tedesco con traduzione simultanea verso l’italiano. \nIngresso libero\, posti limitati. Prenota ora cliccando > qui.
URL:https://lapagina.ch/eventi/della-tranquillita-dellanimo-incontro-con-victoria-lorini/
LOCATION:Missione Cattolica Zurigo\, Feldstrasse 109\, Zurigo\, 8004\, Switzerland
END:VEVENT
END:VCALENDAR