BEGIN:VCALENDAR
VERSION:2.0
PRODID:-//La Pagina - ECPv5.5.0.1//NONSGML v1.0//EN
CALSCALE:GREGORIAN
METHOD:PUBLISH
X-WR-CALNAME:La Pagina
X-ORIGINAL-URL:https://lapagina.ch
X-WR-CALDESC:Events for La Pagina
BEGIN:VTIMEZONE
TZID:Europe/Zurich
BEGIN:DAYLIGHT
TZOFFSETFROM:+0100
TZOFFSETTO:+0200
TZNAME:CEST
DTSTART:20230326T010000
END:DAYLIGHT
BEGIN:STANDARD
TZOFFSETFROM:+0200
TZOFFSETTO:+0100
TZNAME:CET
DTSTART:20231029T010000
END:STANDARD
END:VTIMEZONE
BEGIN:VEVENT
DTSTART;TZID=Europe/Zurich:20230402T100000
DTEND;TZID=Europe/Zurich:20230402T100000
DTSTAMP:20260420T003852
CREATED:20230310T161359Z
LAST-MODIFIED:20230310T161645Z
UID:64024-1680429600-1680429600@lapagina.ch
SUMMARY:Discorso speciale: “Possiamo affrontare il futuro con fiducia!” 
DESCRIPTION:I Testimoni di Geova invitano ad una speciale conferenza biblica che a Zurigo si terrà il 2 aprile 2023 alle 10:00. Verrà pronunciato un incoraggiante discorso dal tema: “Possiamo affrontare il futuro con fiducia!” \nPer maggiori informazioni clicca qui
URL:https://lapagina.ch/eventi/discorso-speciale-possiamo-affrontare-il-futuro-con-fiducia/
LOCATION:Sala del Regno dei Testimoni di Geova\, Zurlindenstrasse 82\, Zurigo\, Svizzera
END:VEVENT
END:VCALENDAR