BEGIN:VCALENDAR
VERSION:2.0
PRODID:-//La Pagina - ECPv5.5.0.1//NONSGML v1.0//EN
CALSCALE:GREGORIAN
METHOD:PUBLISH
X-WR-CALNAME:La Pagina
X-ORIGINAL-URL:https://lapagina.ch
X-WR-CALDESC:Events for La Pagina
BEGIN:VTIMEZONE
TZID:Europe/Zurich
BEGIN:DAYLIGHT
TZOFFSETFROM:+0100
TZOFFSETTO:+0200
TZNAME:CEST
DTSTART:20240331T010000
END:DAYLIGHT
BEGIN:STANDARD
TZOFFSETFROM:+0200
TZOFFSETTO:+0100
TZNAME:CET
DTSTART:20241027T010000
END:STANDARD
END:VTIMEZONE
BEGIN:VEVENT
DTSTART;TZID=Europe/Zurich:20240320T160000
DTEND;TZID=Europe/Zurich:20240320T174500
DTSTAMP:20260423T050358
CREATED:20240226T090704Z
LAST-MODIFIED:20240226T090704Z
UID:65381-1710950400-1710956700@lapagina.ch
SUMMARY:Diventare traduttrice: un'indagine attraverso gli archivi letterari del Novecento
DESCRIPTION:Diventare traduttrice: un’indagine attraverso gli archivi letterari del Novecento \nDr. Teresa Franco\, Università degli Studi di Milano \n\n\n\n\n\nQuali sono le sfide che le donne hanno affrontato per diventare traduttrici e meritarsi uno status letterario? Molte risposte a questa domanda provengono dagli archivi letterari e dai documenti privati attraverso i quali è possibile ricostruire i profili di molte donne oggi in gran parte ancora invisibili. La relazione di Teresa Franco prenderà in esame il rapporto tra scrittura e traduzione attraverso quattro figure paradigmatiche: le scrittrici Lalla Romano (1906-2001) e Natalia Ginzburg (1916-1991) e le traduttrici Nini Agosti Castellani (1913- 2005) e Adriana Motti (1924-2009).
URL:https://lapagina.ch/eventi/diventare-traduttrice-unindagine-attraverso-gli-archivi-letterari-del-novecento/
LOCATION:Università di Zurigo Aula KOL-E-21\, Rämistrasse 71\, Zurigo\, 8006\, Switzerland
END:VEVENT
END:VCALENDAR