BEGIN:VCALENDAR
VERSION:2.0
PRODID:-//La Pagina - ECPv5.5.0.1//NONSGML v1.0//EN
CALSCALE:GREGORIAN
METHOD:PUBLISH
X-WR-CALNAME:La Pagina
X-ORIGINAL-URL:https://lapagina.ch
X-WR-CALDESC:Events for La Pagina
BEGIN:VTIMEZONE
TZID:Europe/Helsinki
BEGIN:DAYLIGHT
TZOFFSETFROM:+0200
TZOFFSETTO:+0300
TZNAME:EEST
DTSTART:20190331T010000
END:DAYLIGHT
BEGIN:STANDARD
TZOFFSETFROM:+0300
TZOFFSETTO:+0200
TZNAME:EET
DTSTART:20191027T010000
END:STANDARD
END:VTIMEZONE
BEGIN:VEVENT
DTSTART;TZID=Europe/Helsinki:20190518T133000
DTEND;TZID=Europe/Helsinki:20190518T233000
DTSTAMP:20260424T142025
CREATED:20190508T080855Z
LAST-MODIFIED:20190508T080855Z
UID:52961-1558186200-1558222200@lapagina.ch
SUMMARY:Federico Cafiero de Raho procuratore Nazionale Antimafia  e Antiterrorismo
DESCRIPTION:organizza: Comites di Basilea e Zurigo \nsabato 18 maggio\, ore 13.30 Missione Cattolica Italiana e  \nsabato 18 maggio\, ore 18.30 Liceo Artistico \nConclusione progetto “La cultura della legalità”
URL:https://lapagina.ch/eventi/federico-cafiero-de-raho-procuratore-nazionale-antimafia-e-antiterrorismo/
LOCATION:Liceo Artistico\, Parkring 30\, 8027 Zürich\, Svizzera
CATEGORIES:Appuntamenti / Associazioni
END:VEVENT
END:VCALENDAR