BEGIN:VCALENDAR
VERSION:2.0
PRODID:-//La Pagina - ECPv5.5.0.1//NONSGML v1.0//EN
CALSCALE:GREGORIAN
METHOD:PUBLISH
X-WR-CALNAME:La Pagina
X-ORIGINAL-URL:https://lapagina.ch
X-WR-CALDESC:Events for La Pagina
BEGIN:VTIMEZONE
TZID:Europe/Zurich
BEGIN:DAYLIGHT
TZOFFSETFROM:+0100
TZOFFSETTO:+0200
TZNAME:CEST
DTSTART:20240331T010000
END:DAYLIGHT
BEGIN:STANDARD
TZOFFSETFROM:+0200
TZOFFSETTO:+0100
TZNAME:CET
DTSTART:20241027T010000
END:STANDARD
END:VTIMEZONE
BEGIN:VEVENT
DTSTART;TZID=Europe/Zurich:20240118T190000
DTEND;TZID=Europe/Zurich:20240118T190000
DTSTAMP:20260424T012014
CREATED:20240108T075900Z
LAST-MODIFIED:20240108T075900Z
UID:65222-1705604400-1705604400@lapagina.ch
SUMMARY:Femminicidio - Violenza sulle donne
DESCRIPTION:La Missione Cattolica di Lingua Italiana organizza \nIncontro Culturale \nFemminicidio – Violenza sulle donne \nLa violenza domestica e il lavoro della BIF consulenza alle donne \nRelatrici:  \nSig.ra D. Midolo e Sig.ra P. Oberholzer\ndel centro di consulenza per le donne contro la violenza nel matrimonio e nella convivenza
URL:https://lapagina.ch/eventi/femminicidio-violenza-sulle-donne/
LOCATION:Parrocchia Don Bosco MCLI\, Feldstrasse 109\, Zurigo\, 8004
END:VEVENT
END:VCALENDAR