BEGIN:VCALENDAR
VERSION:2.0
PRODID:-//La Pagina - ECPv5.5.0.1//NONSGML v1.0//EN
CALSCALE:GREGORIAN
METHOD:PUBLISH
X-WR-CALNAME:La Pagina
X-ORIGINAL-URL:https://lapagina.ch
X-WR-CALDESC:Events for La Pagina
BEGIN:VTIMEZONE
TZID:Europe/Zurich
BEGIN:DAYLIGHT
TZOFFSETFROM:+0100
TZOFFSETTO:+0200
TZNAME:CEST
DTSTART:20240331T010000
END:DAYLIGHT
BEGIN:STANDARD
TZOFFSETFROM:+0200
TZOFFSETTO:+0100
TZNAME:CET
DTSTART:20241027T010000
END:STANDARD
END:VTIMEZONE
BEGIN:VEVENT
DTSTART;TZID=Europe/Zurich:20240321T190000
DTEND;TZID=Europe/Zurich:20240321T190000
DTSTAMP:20260423T020830
CREATED:20240227T154344Z
LAST-MODIFIED:20240227T154344Z
UID:65428-1711047600-1711047600@lapagina.ch
SUMMARY:FENICE PRESENTA BRASSOPERÀ
DESCRIPTION:FENICE PRESENTA BRASSOPERÀ \nA Zurigo\, concerto del quintetto di fiati dell’Orchestra del teatro La Fenice di Venezia. \nLa formazione dei BrassOperà è composta da Piergiuseppe Doldi e Alberto Capra alle trombe\, Loris Antiga al corno\, Giuseppe Mendola al trombone e Alberto Azzolini al basso tuba. Il concerto a Zurigo sarà strutturato in tre parti: la prima dedicata alla “musica Veneziana”\, la seconda ai tre compositori lirici “italiani” più importanti e la terza alla musica da film “italiana”. \nAscolta \nKirche Enge\nMezzi pubblici: da “Bahnhofstrasse/HB”\, tram no. 6 in direzione “Zürich\, Bahnhof Enge” fino alla fermata “Bahnhof Enge”\, 6 min a piedi \nIngresso libero  \nPrenota online qui (1 persona = 1 indirizzo e-mail valido) o chiama qui
URL:https://lapagina.ch/eventi/fenice-presenta-brassopera/
LOCATION:Kirche Enge\, Bürglistrasse 15\, Zurigo\, 8002\, Switzerland
END:VEVENT
END:VCALENDAR