BEGIN:VCALENDAR
VERSION:2.0
PRODID:-//La Pagina - ECPv5.5.0.1//NONSGML v1.0//EN
CALSCALE:GREGORIAN
METHOD:PUBLISH
X-WR-CALNAME:La Pagina
X-ORIGINAL-URL:https://lapagina.ch
X-WR-CALDESC:Events for La Pagina
BEGIN:VTIMEZONE
TZID:Europe/Helsinki
BEGIN:DAYLIGHT
TZOFFSETFROM:+0200
TZOFFSETTO:+0300
TZNAME:EEST
DTSTART:20190331T010000
END:DAYLIGHT
BEGIN:STANDARD
TZOFFSETFROM:+0300
TZOFFSETTO:+0200
TZNAME:EET
DTSTART:20191027T010000
END:STANDARD
END:VTIMEZONE
BEGIN:VEVENT
DTSTART;TZID=Europe/Helsinki:20190623T080000
DTEND;TZID=Europe/Helsinki:20190623T223000
DTSTAMP:20260420T071256
CREATED:20190612T100650Z
LAST-MODIFIED:20190612T100650Z
UID:53578-1561276800-1561329000@lapagina.ch
SUMMARY:Festa Campestre
DESCRIPTION:organizza: Il gruppo di Alpini di Zurigo \ndove: Hütte della KTV  \nVenite e gusterete il nostro tradizionale menù fatto di: \n…polenta\, menata all’antica… \n…salsicce italiane… \n…costine nostrane… \n…cosce di pollo ruspante… \n…formaggio del monte… \nÈ l’occasione per trascorrere qualche ora insieme \nrallegrati dalla simpatia degli alpini
URL:https://lapagina.ch/eventi/festa-campestre-4/
LOCATION:Hütte della KTV\, Svizzera
CATEGORIES:Appuntamenti / Associazioni
END:VEVENT
END:VCALENDAR