BEGIN:VCALENDAR
VERSION:2.0
PRODID:-//La Pagina - ECPv5.5.0.1//NONSGML v1.0//EN
CALSCALE:GREGORIAN
METHOD:PUBLISH
X-WR-CALNAME:La Pagina
X-ORIGINAL-URL:https://lapagina.ch
X-WR-CALDESC:Events for La Pagina
BEGIN:VTIMEZONE
TZID:Europe/Helsinki
BEGIN:DAYLIGHT
TZOFFSETFROM:+0200
TZOFFSETTO:+0300
TZNAME:EEST
DTSTART:20190331T010000
END:DAYLIGHT
BEGIN:STANDARD
TZOFFSETFROM:+0300
TZOFFSETTO:+0200
TZNAME:EET
DTSTART:20191027T010000
END:STANDARD
END:VTIMEZONE
BEGIN:VEVENT
DTSTART;TZID=Europe/Helsinki:20190323T183000
DTEND;TZID=Europe/Helsinki:20190323T233000
DTSTAMP:20260426T005223
CREATED:20190227T105227Z
LAST-MODIFIED:20190227T105227Z
UID:51707-1553365800-1553383800@lapagina.ch
SUMMARY:Festa del papà
DESCRIPTION:organizza: Comitato genitori di Dietlikon-Wangen-Brüttisellen \ndove: Sala Gsellhof a Brüttisellen \nDurante la serata ci sarà il coinvolgimento dei bambini \nnella presentazione di una piccola sorpresa per i papà. \nLa serata sarà allietata con tanta musica\, balli e karaoke dai REBUS \nL’ottima cucina non mancherà e l’entrata è gratuita.
URL:https://lapagina.ch/eventi/festa-del-papa-5/
LOCATION:sala gsellhof\, schüracherstrasse 10\, brüttisellen\, Svizzera
CATEGORIES:Appuntamenti / Associazioni
END:VEVENT
END:VCALENDAR