BEGIN:VCALENDAR
VERSION:2.0
PRODID:-//La Pagina - ECPv5.5.0.1//NONSGML v1.0//EN
CALSCALE:GREGORIAN
METHOD:PUBLISH
X-WR-CALNAME:La Pagina
X-ORIGINAL-URL:https://lapagina.ch
X-WR-CALDESC:Events for La Pagina
BEGIN:VTIMEZONE
TZID:Europe/Zurich
BEGIN:DAYLIGHT
TZOFFSETFROM:+0100
TZOFFSETTO:+0200
TZNAME:CEST
DTSTART:20230326T010000
END:DAYLIGHT
BEGIN:STANDARD
TZOFFSETFROM:+0200
TZOFFSETTO:+0100
TZNAME:CET
DTSTART:20231029T010000
END:STANDARD
END:VTIMEZONE
BEGIN:VEVENT
DTSTART;TZID=Europe/Zurich:20230418T080000
DTEND;TZID=Europe/Zurich:20230418T170000
DTSTAMP:20260424T123904
CREATED:20230418T080643Z
LAST-MODIFIED:20230418T080643Z
UID:64256-1681804800-1681837200@lapagina.ch
SUMMARY:Festa della Liberazione a Basilea
DESCRIPTION:Nell’ambito delle celebrazioni per il 𝟕𝟖°𝐀𝐧𝐧𝐢𝐯𝐞𝐫𝐬𝐚𝐫𝐢𝐨 𝐝𝐞𝐥𝐥𝐚 𝐋𝐢𝐛𝐞𝐫𝐚𝐳𝐢𝐨𝐧𝐞\, si terrà a Basilea una giornata di dibattito e condivisione all’insegna dei valori della Resistenza da cui nasce la nostra Repubblica. \n\n\n\nProgramma:\nOre 10.30 \nOmaggio a Enrico Pieri\, testimone della strage di Sant’Anna di Stazzema\, alla presenza del Console d’Italia in Basilea\, Giovanni Cavagnoli e del figlio Massimo Pieri. \nOre 11.30\nPresentazione de “Morire il 25 aprile” (Ed. Frassinelli) di e con Federico Bertoni (Università di Bologna) \nOre 13.00\nPranzo: pastasciutta antifascista! \nMusica con Francesco Lorino (fisarmonica) e Greta Lorino (violino) \n\n\n\nINGRESSO LIBERO \nPer il pranzo dal costo di 20 CHF\, è gradita la prenotazione ai seguenti recapiti: +41 76 592 45 32 | info@pomodorissimo.ch \n\n\n\n\n\n\nL’iniziativa\, patrocinata dal Consolato d’Italia in Basilea\, è promossa dalle seguenti realtà: COMITES BASILEA\, GIR\, ITACA\, FONDAZIONE ECAP\, COLONIE LIBERE ITALIANE DI BASILEA\, MŌHLIN\, MUTTENZ\, RHEINFELDEN\, STEIN\, ASS.CAMPANI DI BASILEA\, ASS.ABRUZZESI „LA CAMPAGNOLA “\, CIRCOLO CULTURALE REALTÀ NUOVA. \nScarica qui il volantino
URL:https://lapagina.ch/eventi/festa-della-liberazione-a-basilea/
END:VEVENT
END:VCALENDAR