BEGIN:VCALENDAR
VERSION:2.0
PRODID:-//La Pagina - ECPv5.5.0.1//NONSGML v1.0//EN
CALSCALE:GREGORIAN
METHOD:PUBLISH
X-WR-CALNAME:La Pagina
X-ORIGINAL-URL:https://lapagina.ch
X-WR-CALDESC:Events for La Pagina
BEGIN:VTIMEZONE
TZID:Europe/Helsinki
BEGIN:DAYLIGHT
TZOFFSETFROM:+0200
TZOFFSETTO:+0300
TZNAME:EEST
DTSTART:20190331T010000
END:DAYLIGHT
BEGIN:STANDARD
TZOFFSETFROM:+0300
TZOFFSETTO:+0200
TZNAME:EET
DTSTART:20191027T010000
END:STANDARD
END:VTIMEZONE
BEGIN:VEVENT
DTSTART;TZID=Europe/Helsinki:20190518T200000
DTEND;TZID=Europe/Helsinki:20190518T233000
DTSTAMP:20260422T150837
CREATED:20190502T084826Z
LAST-MODIFIED:20190502T084826Z
UID:52842-1558209600-1558222200@lapagina.ch
SUMMARY:Festa della mamma
DESCRIPTION:organizza: Ass. Emigrati Italiani Elgg-Aadorf e dintorni \ndove: Werkgebäude di Elgg \nAllieterà la serata il noto complesso \n“BLACK&WHITE” \ngrande ballo \na tutte le mamme verrà offerto un ricordo \nda italtours AG\, Bern \nRicca tombola-Ottima cucina italiana \nServizio ristoro-dolci tipici casarecci
URL:https://lapagina.ch/eventi/festa-della-mamma-10/
LOCATION:Werkgebäude di Elgg\, Svizzera
CATEGORIES:Appuntamenti / Associazioni
END:VEVENT
END:VCALENDAR