BEGIN:VCALENDAR
VERSION:2.0
PRODID:-//La Pagina - ECPv5.5.0.1//NONSGML v1.0//EN
CALSCALE:GREGORIAN
METHOD:PUBLISH
X-WR-CALNAME:La Pagina
X-ORIGINAL-URL:https://lapagina.ch
X-WR-CALDESC:Events for La Pagina
BEGIN:VTIMEZONE
TZID:Europe/Helsinki
BEGIN:DAYLIGHT
TZOFFSETFROM:+0200
TZOFFSETTO:+0300
TZNAME:EEST
DTSTART:20190331T010000
END:DAYLIGHT
BEGIN:STANDARD
TZOFFSETFROM:+0300
TZOFFSETTO:+0200
TZNAME:EET
DTSTART:20191027T010000
END:STANDARD
END:VTIMEZONE
BEGIN:VEVENT
DTSTART;TZID=Europe/Helsinki:20190622T193000
DTEND;TZID=Europe/Helsinki:20190622T233000
DTSTAMP:20260420T085313
CREATED:20190612T100738Z
LAST-MODIFIED:20190612T100738Z
UID:53580-1561231800-1561246200@lapagina.ch
SUMMARY:Festa dell'amicizia
DESCRIPTION:organizza: La Balera Club \ndove: La Balera Club \nNella nostra festa dell’amicizia ognuno porta \nqualcosa da mangiare dal dolce al salato. \nNon da riscaldare o da mettere in frigo. \nChi desidera parteciapre\, si prega di prenotarsi. \nFino ad esaurimento posti. \nEntata gratis\, escluso bevande. Parcheggi gratis. \nNon mancherà il divertimento e la buona musica! \nPer maggiori info. 079 436 18 91
URL:https://lapagina.ch/eventi/festa-dellamicizia-3/
LOCATION:Balera Club Spreitenbach\, Güterstrasse 10\, 8057 Spreitenbach\, Svizzera
CATEGORIES:Appuntamenti / Associazioni
END:VEVENT
END:VCALENDAR