BEGIN:VCALENDAR
VERSION:2.0
PRODID:-//La Pagina - ECPv5.5.0.1//NONSGML v1.0//EN
CALSCALE:GREGORIAN
METHOD:PUBLISH
X-WR-CALNAME:La Pagina
X-ORIGINAL-URL:https://lapagina.ch
X-WR-CALDESC:Events for La Pagina
BEGIN:VTIMEZONE
TZID:Europe/Zurich
BEGIN:DAYLIGHT
TZOFFSETFROM:+0100
TZOFFSETTO:+0200
TZNAME:CEST
DTSTART:20230326T010000
END:DAYLIGHT
BEGIN:STANDARD
TZOFFSETFROM:+0200
TZOFFSETTO:+0100
TZNAME:CET
DTSTART:20231029T010000
END:STANDARD
END:VTIMEZONE
BEGIN:VEVENT
DTSTART;TZID=Europe/Zurich:20230930T190000
DTEND;TZID=Europe/Zurich:20231001T000000
DTSTAMP:20260424T142321
CREATED:20230823T131506Z
LAST-MODIFIED:20230823T131506Z
UID:64667-1696100400-1696118400@lapagina.ch
SUMMARY:Festa dell'Uva
DESCRIPTION:La Colonia Libera Italiana di Dietikon \norganizza \nFesta dell’Uva\nServizio ristoro\, ottimo menù completo con bevanda inclusa \nSpecialità\, cannoli siciliani e sfogliatelle napoletane \nMusica e ballo in allegria con il complesso Duo Del Sud \nUva gratis per tutti \nTombola con ricchi premi \nOfferte sono benvenute \nVendita Vino\, vinoverso \n 
URL:https://lapagina.ch/eventi/festa-delluva-4/
LOCATION:Festsaal-Zentrum St. Agatha Dietikon\, Kirchplatz 7\, Dietikon
END:VEVENT
END:VCALENDAR