BEGIN:VCALENDAR
VERSION:2.0
PRODID:-//La Pagina - ECPv5.5.0.1//NONSGML v1.0//EN
CALSCALE:GREGORIAN
METHOD:PUBLISH
X-WR-CALNAME:La Pagina
X-ORIGINAL-URL:https://lapagina.ch
X-WR-CALDESC:Events for La Pagina
BEGIN:VTIMEZONE
TZID:Europe/Helsinki
BEGIN:DAYLIGHT
TZOFFSETFROM:+0200
TZOFFSETTO:+0300
TZNAME:EEST
DTSTART:20190331T010000
END:DAYLIGHT
BEGIN:STANDARD
TZOFFSETFROM:+0300
TZOFFSETTO:+0200
TZNAME:EET
DTSTART:20191027T010000
END:STANDARD
END:VTIMEZONE
BEGIN:VEVENT
DTSTART;TZID=Europe/Helsinki:20190615T190000
DTEND;TZID=Europe/Helsinki:20190615T233000
DTSTAMP:20260420T134455
CREATED:20190605T071313Z
LAST-MODIFIED:20190605T071313Z
UID:53451-1560625200-1560641400@lapagina.ch
SUMMARY:Festa d'Estate
DESCRIPTION:organizza: Ass. Club Fuscaldese e Circolo Famiglia Amaronesi \ndove: Centro Papa GIovanni \nSerata danzante e ricca di divertimento con… \nAngelo&Fabrizio / Lugi&Renato / I pizzicati \nMenù: Casarecce alla salsiccia-Arrosto di vitello con contorno – Menù bambini Fr. 15.- / Entrata con menù Fr. 25.- solo entrata Fr. 10.- / Entrata gratis bambini fino a 12anni \nPrenotazioni entro il 13 giugno allo: 041 261 03 66 \n(079 241 15 07) Fam. Allevato \no 076 401 87 35 Ruggiero Luana
URL:https://lapagina.ch/eventi/festa-destate/
LOCATION:centro papa giovanni emmenbrücke\, Emmenbrücke\, Svizzera
CATEGORIES:Appuntamenti / Associazioni
END:VEVENT
END:VCALENDAR