BEGIN:VCALENDAR
VERSION:2.0
PRODID:-//La Pagina - ECPv5.5.0.1//NONSGML v1.0//EN
CALSCALE:GREGORIAN
METHOD:PUBLISH
X-WR-CALNAME:La Pagina
X-ORIGINAL-URL:https://lapagina.ch
X-WR-CALDESC:Events for La Pagina
BEGIN:VTIMEZONE
TZID:Europe/Zurich
BEGIN:DAYLIGHT
TZOFFSETFROM:+0100
TZOFFSETTO:+0200
TZNAME:CEST
DTSTART:20230326T010000
END:DAYLIGHT
BEGIN:STANDARD
TZOFFSETFROM:+0200
TZOFFSETTO:+0100
TZNAME:CET
DTSTART:20231029T010000
END:STANDARD
END:VTIMEZONE
BEGIN:VEVENT
DTSTART;TZID=Europe/Zurich:20230603T190000
DTEND;TZID=Europe/Zurich:20230604T020000
DTSTAMP:20260424T234737
CREATED:20230522T091947Z
LAST-MODIFIED:20230522T091947Z
UID:64426-1685818800-1685844000@lapagina.ch
SUMMARY:Festa per il 40° anniversario dell'Associazione Lucana Bubikon e dintorni
DESCRIPTION:Associazione Lucana Bubikon e dintorni A.L.B.E.D. \nfesteggia \n40° Anniversario \nLa serata sarà allietata da Pensieri e Nuvole \nTombola con tanti premi \nPrenotazione obbligatoria con scelta menu entro il 27 maggio 2023 \nGiusi 076 490 24 86 / Debora 076 326 95 91 \nMenu Porchetta: Fusilli Lucani\, Porchetta e insalata\, Dessert Fr. 30.-\nMenu Salsiccia: Fusilli Lucani\, Salsiccia e insalata\, Dessert Fr. 30.-\nMenu Bambini (fino a 12 anni): Fusilli Lucani\, Salsiccia e patatine\, Dessert Fr. 15.-
URL:https://lapagina.ch/eventi/festa-per-il-40-anniversario-dellassociazione-lucana-bubikon-e-dintorni/
LOCATION:Geissbergsaal di Wolfhausen\, Wolfhausen\, Svizzera
END:VEVENT
END:VCALENDAR