BEGIN:VCALENDAR
VERSION:2.0
PRODID:-//La Pagina - ECPv5.5.0.1//NONSGML v1.0//EN
CALSCALE:GREGORIAN
METHOD:PUBLISH
X-WR-CALNAME:La Pagina
X-ORIGINAL-URL:https://lapagina.ch
X-WR-CALDESC:Events for La Pagina
BEGIN:VTIMEZONE
TZID:Europe/Zurich
BEGIN:DAYLIGHT
TZOFFSETFROM:+0100
TZOFFSETTO:+0200
TZNAME:CEST
DTSTART:20250330T010000
END:DAYLIGHT
BEGIN:STANDARD
TZOFFSETFROM:+0200
TZOFFSETTO:+0100
TZNAME:CET
DTSTART:20251026T010000
END:STANDARD
END:VTIMEZONE
BEGIN:VEVENT
DTSTART;TZID=Europe/Zurich:20250223T170000
DTEND;TZID=Europe/Zurich:20250223T170000
DTSTAMP:20260420T122920
CREATED:20250219T134542Z
LAST-MODIFIED:20250219T134542Z
UID:66652-1740330000-1740330000@lapagina.ch
SUMMARY:Film e dibattito: “Loro” di Paolo Sorrentino
DESCRIPTION:Partito Democratico “Armando Bee” di Basilea  e GIR – Giovani In Rete\,   \n invitano:  \nFilm e dibattito: “Loro” di Paolo Sorrentino  \nUnica ad essere accettata tra gli autori “comunisti”\, è questa citazione di Natalia Ginzburg che il Berlusconi di Sorrentino condivide con la sua impropria cerchia.\nUn affresco feroce e malinconico\, becero e decadente\, di un ventennio – la fine anni ’90\, ma il film colloca la prima parte nel 2006 – che ora ci appare lontano\, ma che ha abitato non solo il Parlamento italiano\, ma l’immaginario collettivo\, il costume\, la crisi di un Paese oggi sempre più sedotto da perversi populismi.   \n  \nUn ritratto non scontato di una tra le figure più controverse della politica italiana\, i processi giudiziari\, le ascese e le cadute\, i rapporti con la mafia\, tutto materiale che parla sullo sfondo o per bocca dei vari personaggi che nutrono la cupa schiera di “Loro”.   \n  \nUn’opera unica per la narrativa e per l’estetica con le quali riesce a dipingere un Paese che sembra aver definitivamente smarrito l’alta etica della politica.  \n  \nCensurato in Italia\, vedremo insieme “Loro” di Sorrentino domenica 23 febbraio alle ore 17\, presso la Casa delle Associazioni\, in Erlkönigweg 30\, 4058 Basilea. Seguirà un dibattito.  \n  \nIngresso libero su prenotazione\, scrivere a pdbasilea@gmail.com\, o girsvizzera@gmail.com o chiamare: +41 76 432 34 66.  \n  \nVi aspettiamo numerose e numerosi!  \n  \nPartito Democratico “Armando Bee” Basilea\, GIR – Giovani In Rete  \n  \nScarica qui il volantino
URL:https://lapagina.ch/eventi/film-e-dibattito-loro-di-paolo-sorrentino/
LOCATION:Casa delle Associazioni\, ERLKÖNIGWEG 30\, Basel\, Switzerland
END:VEVENT
END:VCALENDAR