BEGIN:VCALENDAR
VERSION:2.0
PRODID:-//La Pagina - ECPv5.5.0.1//NONSGML v1.0//EN
CALSCALE:GREGORIAN
METHOD:PUBLISH
X-WR-CALNAME:La Pagina
X-ORIGINAL-URL:https://lapagina.ch
X-WR-CALDESC:Events for La Pagina
BEGIN:VTIMEZONE
TZID:Europe/Zurich
BEGIN:DAYLIGHT
TZOFFSETFROM:+0100
TZOFFSETTO:+0200
TZNAME:CEST
DTSTART:20240331T010000
END:DAYLIGHT
BEGIN:STANDARD
TZOFFSETFROM:+0200
TZOFFSETTO:+0100
TZNAME:CET
DTSTART:20241027T010000
END:STANDARD
END:VTIMEZONE
BEGIN:VEVENT
DTSTART;TZID=Europe/Zurich:20240411T140000
DTEND;TZID=Europe/Zurich:20240411T153000
DTSTAMP:20260422T152356
CREATED:20240226T091120Z
LAST-MODIFIED:20240226T091120Z
UID:65393-1712844000-1712849400@lapagina.ch
SUMMARY:G. Pascoli\, “Giovannino": l’elaborazione e gli abbozzi della regressione all’infanzia
DESCRIPTION:G. Pascoli\, “Giovannino”: l’elaborazione e gli abbozzi della regressione all’infanzia\nProf. Dr. Marco Antonio Bazzocchi\, Università di Bologna \nLa lezione affronta un testo pascoliano centrale nei Canti di Castelvecchio\, Giovannino\, che si trova al termine del ciclo lirico Il ritorno a San Mauro. Attraverso l’analisi degli abbozzi e del testo finale\, possiamo elaborare alcune ipotesi sulla modalità con cui Pascoli ha lavorato a lungo sul tema della regressione all’infanzia e sulla creazione di un alter-ego infantile che viene scelto come interlocutore dall’io lirico. Abbozzi e varianti possono servirci per capire come Pascoli sia arrivato a fissare\, seppur in modo non definitivo\, un tema lirico che si dirama in tutta la sua opera\, creando aggregazioni linguistiche e simboliche con diverse declinazioni\, in modo da portare un testo poetico verso la natura narrativa di un percorso autoanalitico.
URL:https://lapagina.ch/eventi/g-pascoli-giovannino-lelaborazione-e-gli-abbozzi-della-regressione-allinfanzia/
LOCATION:Università di Zurigo Aula KOL-H-317\, Rämistrasse 17\, Zurigo\, 8006\, Switzerland
END:VEVENT
END:VCALENDAR