BEGIN:VCALENDAR
VERSION:2.0
PRODID:-//La Pagina - ECPv5.5.0.1//NONSGML v1.0//EN
CALSCALE:GREGORIAN
METHOD:PUBLISH
X-WR-CALNAME:La Pagina
X-ORIGINAL-URL:https://lapagina.ch
X-WR-CALDESC:Events for La Pagina
BEGIN:VTIMEZONE
TZID:Europe/Zurich
BEGIN:DAYLIGHT
TZOFFSETFROM:+0100
TZOFFSETTO:+0200
TZNAME:CEST
DTSTART:20230326T010000
END:DAYLIGHT
BEGIN:STANDARD
TZOFFSETFROM:+0200
TZOFFSETTO:+0100
TZNAME:CET
DTSTART:20231029T010000
END:STANDARD
END:VTIMEZONE
BEGIN:VEVENT
DTSTART;TZID=Europe/Zurich:20230401T150000
DTEND;TZID=Europe/Zurich:20230401T150000
DTSTAMP:20260419T224916
CREATED:20230324T073819Z
LAST-MODIFIED:20230324T073819Z
UID:64111-1680361200-1680361200@lapagina.ch
SUMMARY:Il Comites di Zurigo incontra le associazioni
DESCRIPTION:Con il Patrocinio del Consolato Generale d’Italia a Zurigo e del Consiglio Generale degli italiani all’estero \nIL COMITES DI ZURIGO \nINCONTRA LE ASSOCIAZIONI \nPRESENTAZIONE\nCONFRONTO E PROSPETTIVE \nBRINDISI al termine dell’incontro \nScarica qui il volantino
URL:https://lapagina.ch/eventi/il-comites-di-zurigo-incontra-le-associazioni/
LOCATION:Sala Gemeinde Christi\, Sihlquai 253\, Zürich\, 8005\, Switzerland
END:VEVENT
END:VCALENDAR