BEGIN:VCALENDAR
VERSION:2.0
PRODID:-//La Pagina - ECPv5.5.0.1//NONSGML v1.0//EN
CALSCALE:GREGORIAN
METHOD:PUBLISH
X-WR-CALNAME:La Pagina
X-ORIGINAL-URL:https://lapagina.ch
X-WR-CALDESC:Events for La Pagina
BEGIN:VTIMEZONE
TZID:Europe/Zurich
BEGIN:DAYLIGHT
TZOFFSETFROM:+0100
TZOFFSETTO:+0200
TZNAME:CEST
DTSTART:20230326T010000
END:DAYLIGHT
BEGIN:STANDARD
TZOFFSETFROM:+0200
TZOFFSETTO:+0100
TZNAME:CET
DTSTART:20231029T010000
END:STANDARD
END:VTIMEZONE
BEGIN:VEVENT
DTSTART;TZID=Europe/Zurich:20230422T173000
DTEND;TZID=Europe/Zurich:20230422T173000
DTSTAMP:20260424T184631
CREATED:20230403T071645Z
LAST-MODIFIED:20230403T071645Z
UID:64190-1682184600-1682184600@lapagina.ch
SUMMARY:Incontro sul tema “Alla riscoperta di Grazia Deledda”
DESCRIPTION:IL CIRCOLO SARDO “EFISIO RACIS” DI ZURIGO\nin collaborazione con la \nFEDERAZIONE DEI CIRCOLI SARDI IN SVIZZERA\ne con il patrocinio della \nREGIONE AUTONOMA DELLA SARDEGNA \nORGANIZZA\nUN INCONTRO SUL TEMA \n\n\n\n“Alla riscoperta di Grazia Deledda” \nCelebrazione del 150esimo anniversario della sua nascita \n\n\n\n\nPresentazione e letture a cura della scrittrice dott.ssa Linda Fallea Buscemi \nIl circolo sardo di Zurigo è lieto di invitare tutti i suoi membri e simpatizzanti a questo importante incontro. \nINGRESSO LIBERO – AL TERMINE IL CIRCOLO OFFRIRÀ UN APERITIVO \nInformazioni utili per raggiungere la sala:\nLa Missione Cattolica Italiana si trova nella Feldstrasse 109\, 8004 Zurigo (Tram n° 8 o Bus n° 31 o 32 fino alla fermata “Bäckeranlage”) \nScarica qui il volantino
URL:https://lapagina.ch/eventi/incontro-sul-tema-alla-riscoperta-di-grazia-deledda/
LOCATION:Missione Cattolica Zurigo\, Feldstrasse 109\, Zurigo\, 8004\, Switzerland
ORGANIZER;CN="Circolo%20Sardo%20%22Efisio%20Racis%22%20di%20Zurigo":MAILTO:sardizurigo@bluewin.ch
END:VEVENT
END:VCALENDAR