BEGIN:VCALENDAR
VERSION:2.0
PRODID:-//La Pagina - ECPv5.5.0.1//NONSGML v1.0//EN
CALSCALE:GREGORIAN
METHOD:PUBLISH
X-WR-CALNAME:La Pagina
X-ORIGINAL-URL:https://lapagina.ch
X-WR-CALDESC:Events for La Pagina
BEGIN:VTIMEZONE
TZID:Europe/Zurich
BEGIN:DAYLIGHT
TZOFFSETFROM:+0100
TZOFFSETTO:+0200
TZNAME:CEST
DTSTART:20230326T010000
END:DAYLIGHT
BEGIN:STANDARD
TZOFFSETFROM:+0200
TZOFFSETTO:+0100
TZNAME:CET
DTSTART:20231029T010000
END:STANDARD
END:VTIMEZONE
BEGIN:VEVENT
DTSTART;TZID=Europe/Zurich:20230603T093000
DTEND;TZID=Europe/Zurich:20230604T190000
DTSTAMP:20260425T005930
CREATED:20230601T070828Z
LAST-MODIFIED:20230601T070828Z
UID:64471-1685784600-1685905200@lapagina.ch
SUMMARY:Italian & Swiss Summer Festival a Basilea
DESCRIPTION:Da un’idea del GIR – Giovani in Rete – e del Quartiertreffpunkt di Erlenmatt/Rosental\, con il sostegno  del Consolato d’Italia in Basilea e del Comites di Basilea\, con la partecipazione di numerose associazioni ed Enti italiane e svizzere\, e alla presenza dell’Ambasciatore d’Italia in Svizzera\, del Console d’Italia in Basilea\, l’ITALIAN & SWISS SUMMER FESTIVAL è una manifestazione dedicata all’Italia e alla Svizzera\, alle voci\, alle associazioni\, all’arte\, alla musica\, al dibattito\, all’incontro dei nostri due Paesi.  \nScarica qui il programma
URL:https://lapagina.ch/eventi/italian-swiss-summer-festival-a-basilea/
END:VEVENT
END:VCALENDAR