BEGIN:VCALENDAR
VERSION:2.0
PRODID:-//La Pagina - ECPv5.5.0.1//NONSGML v1.0//EN
CALSCALE:GREGORIAN
METHOD:PUBLISH
X-WR-CALNAME:La Pagina
X-ORIGINAL-URL:https://lapagina.ch
X-WR-CALDESC:Events for La Pagina
BEGIN:VTIMEZONE
TZID:Europe/Zurich
BEGIN:DAYLIGHT
TZOFFSETFROM:+0100
TZOFFSETTO:+0200
TZNAME:CEST
DTSTART:20240331T010000
END:DAYLIGHT
BEGIN:STANDARD
TZOFFSETFROM:+0200
TZOFFSETTO:+0100
TZNAME:CET
DTSTART:20241027T010000
END:STANDARD
END:VTIMEZONE
BEGIN:VEVENT
DTSTART;TZID=Europe/Zurich:20240229T180000
DTEND;TZID=Europe/Zurich:20240229T180000
DTSTAMP:20260423T190251
CREATED:20240226T082400Z
LAST-MODIFIED:20240226T082400Z
UID:65355-1709229600-1709229600@lapagina.ch
SUMMARY:Italianità plurale
DESCRIPTION:Nell’ambito del ciclo Archivi del Novecento\, la Radiotelevisione svizzera di lingua italiana (RSI) registrerà una trasmissione radiofonica per Rete Due\, che vedrà protagoniste le autrici di due libri sugli sviluppi dell’italianità in Svizzera\, Nelly Valsangiacomo (Università di Losanna) e Matilde Gaggini Fontana (giornalista RSI)\, in dialogo con Massimo Zenari. \nL’iniziativa è co-organizzata dall’Istituto di Italianistica dell’Università di Basilea\, da Rete Due – RSI\, dal Forum per l’italiano in Svizzera e dall’Istituto di Studi italiani dell’Università della Svizzera italiana. \n  \n\n\n\n\nModera l’incontro Massimo Zenari di Rete Due della RSI. \nMatilde Gaggini Fontana\, giornalista\, si è laureata in Let- tere all’Università di Zurigo e ha ottenuto il dottorato in Scienze della comunicazione nell’Università della Svizzera italiana. È autrice del volume “Un’ora per voi”. Storia di una TV senza frontiere\, pubblicato da Casagrande nel 2008. Attiva da decenni nell’ambito della memoria audiovisiva\, attualmente si occupa di valorizzazione degli archivi della RSI. \nNelly Valsangiacomo è professoressa ordinaria di storia contemporanea nell’Università di Losanna\, dove dirige il Centre des Sciences historiques de la Culture. È autrice di numerosi saggi anche dedicati alla radio\, come Dietro al microfono. Intellettuali italiani alla Radio svizzera (1930- 1980)\, edito da Casagrande nel 2015. Con Niccolò Scaffai ha curato À l’italienne. Narrazioni dell’italianità dagli anni Ottanta a oggi\, Carocci 2018\, e con Rosita Fibbi e Marco Marcacci\, in collaborazione con Coscienza svizzera\, Ita- lianità plurale. Analisi e prospettive elvetiche\, Dadò 2023. Del 2023 è anche Résonances. La dimension sonore des Alpes\, Antipodes\, curato con Laine Chanteloup. \nScarica qui il volantino
URL:https://lapagina.ch/eventi/italianita-plurale/
LOCATION:Università di Basilea – Aula 116\, Petersplatz 1\, Basilea\, Svizzera
END:VEVENT
END:VCALENDAR