BEGIN:VCALENDAR
VERSION:2.0
PRODID:-//La Pagina - ECPv5.5.0.1//NONSGML v1.0//EN
CALSCALE:GREGORIAN
METHOD:PUBLISH
X-WR-CALNAME:La Pagina
X-ORIGINAL-URL:https://lapagina.ch
X-WR-CALDESC:Events for La Pagina
BEGIN:VTIMEZONE
TZID:Europe/Zurich
BEGIN:DAYLIGHT
TZOFFSETFROM:+0100
TZOFFSETTO:+0200
TZNAME:CEST
DTSTART:20240331T010000
END:DAYLIGHT
BEGIN:STANDARD
TZOFFSETFROM:+0200
TZOFFSETTO:+0100
TZNAME:CET
DTSTART:20241027T010000
END:STANDARD
END:VTIMEZONE
BEGIN:VEVENT
DTSTART;TZID=Europe/Zurich:20240418T121500
DTEND;TZID=Europe/Zurich:20240418T170000
DTSTAMP:20260422T133832
CREATED:20240226T091223Z
LAST-MODIFIED:20240226T091223Z
UID:65395-1713442500-1713459600@lapagina.ch
SUMMARY:La lunga vita di Marianna Ucrìa dalla pagina allo schermo
DESCRIPTION:La lunga vita di Marianna Ucrìa dalla pagina allo schermo\nDr. Emma Grootveld\, Leiden University \nQuale ‘grammatica di trasformazione’ sottostà al film Marianna Ucrìa di Roberto Faenza (1997)\, tratto dal romanzo storico La lunga vita di Marianna Ucrìa di Dacia Maraini? Emma Grootveld la metterà in luce a partire dalla rappresentazione eroica (protofemminista?) della protagonista\, una donna sordomuta vissuta in Sicilia nella prima metà del Settecendo\, desiderosa di emanciparsi dal sistema patriarcale oppressivo che la circonda.
URL:https://lapagina.ch/eventi/la-lunga-vita-di-marianna-ucria-dalla-pagina-allo-schermo/
LOCATION:Università di Zurigo Aula SOE-F-8\, Schönberggasse 11\, Zurigo\, 8006\, Switzerland
END:VEVENT
END:VCALENDAR