BEGIN:VCALENDAR
VERSION:2.0
PRODID:-//La Pagina - ECPv5.5.0.1//NONSGML v1.0//EN
CALSCALE:GREGORIAN
METHOD:PUBLISH
X-WR-CALNAME:La Pagina
X-ORIGINAL-URL:https://lapagina.ch
X-WR-CALDESC:Events for La Pagina
BEGIN:VTIMEZONE
TZID:Europe/Helsinki
BEGIN:DAYLIGHT
TZOFFSETFROM:+0200
TZOFFSETTO:+0300
TZNAME:EEST
DTSTART:20190331T010000
END:DAYLIGHT
BEGIN:STANDARD
TZOFFSETFROM:+0300
TZOFFSETTO:+0200
TZNAME:EET
DTSTART:20191027T010000
END:STANDARD
END:VTIMEZONE
BEGIN:VEVENT
DTSTART;TZID=Europe/Helsinki:20190504T160000
DTEND;TZID=Europe/Helsinki:20190504T233000
DTSTAMP:20260425T010623
CREATED:20190327T110127Z
LAST-MODIFIED:20190327T110127Z
UID:52272-1556985600-1557012600@lapagina.ch
SUMMARY:"La Sicilia del Gattopardo  tra passato e presente"
DESCRIPTION:organizza: Circolo di Lettura di Sciaffusa \ndove: Zunftsaal del Sorell Hotel Rüden \nL’incontro è arrichito da letture sceniche a cura di G. Pietramale e dei ragazzi che frequentano i Corsi di Lingua e Cultura Italiana a Sciaffusa \nRinfresco finale con spuntini siciliani offerta libera \nIngresso libero \nÈ gradito conferma di partecipazione entro il 29.04.2019: arcesaretti@bluewin.ch
URL:https://lapagina.ch/eventi/la-sicilia-del-gattopardo-tra-passato-e-presente/
LOCATION:Zunftsaal del Sorell Hotel Rüden\, Oberstadt 20\, Schaffhausen\, Svizzera
CATEGORIES:Appuntamenti / Associazioni
END:VEVENT
END:VCALENDAR