BEGIN:VCALENDAR
VERSION:2.0
PRODID:-//La Pagina - ECPv5.5.0.1//NONSGML v1.0//EN
CALSCALE:GREGORIAN
METHOD:PUBLISH
X-WR-CALNAME:La Pagina
X-ORIGINAL-URL:https://lapagina.ch
X-WR-CALDESC:Events for La Pagina
BEGIN:VTIMEZONE
TZID:Europe/Zurich
BEGIN:DAYLIGHT
TZOFFSETFROM:+0100
TZOFFSETTO:+0200
TZNAME:CEST
DTSTART:20240331T010000
END:DAYLIGHT
BEGIN:STANDARD
TZOFFSETFROM:+0200
TZOFFSETTO:+0100
TZNAME:CET
DTSTART:20241027T010000
END:STANDARD
END:VTIMEZONE
BEGIN:VEVENT
DTSTART;TZID=Europe/Zurich:20240319T161500
DTEND;TZID=Europe/Zurich:20240319T161500
DTSTAMP:20260423T050325
CREATED:20240226T090530Z
LAST-MODIFIED:20240226T090530Z
UID:65377-1710864900-1710864900@lapagina.ch
SUMMARY:Lettura di phrasal verbs in parlanti veneti e trentini: analisi preliminari comparative tra verbi lessicali e verbi con particella composizionali e idiomatici
DESCRIPTION:Lettura di phrasal verbs in parlanti veneti e trentini: analisi preliminari comparative tra verbi lessicali e verbi con particella composizionali e idiomatici\nLudovica De Angelis \nLa presente proposta vuole esporre i risultati di un esperimento di lettura di frasi in inglese con verbi frasali composizionali e idiomatici effettuato tramite eye tracker con parlanti veneti e trentini. L’ipotesi principale alla base delle analisi preliminari si basa sull’overlapping morfologico e/o sintattico tra i verbi con particella presenti nelle varietà dialettali venete\, di natura composizionale-aspettuale (‘giustar su’\, ‘aggiustare’) o idiomatica (‘magnar fora’\, ‘dilapidare’)\, e i verbi frasali inglesi. Le analisi effettuate prevedono una comparazione con la categoria dei verbi lessicali. \n 
URL:https://lapagina.ch/eventi/lettura-di-phrasal-verbs-in-parlanti-veneti-e-trentini-analisi-preliminari-comparative-tra-verbi-lessicali-e-verbi-con-particella-composizionali-e-idiomatici/
LOCATION:Università di Zurigo ZUG-U-D31\, Zürichbergstrasse 8\, Zurigo\, 8032\, Switzerland
END:VEVENT
END:VCALENDAR