BEGIN:VCALENDAR
VERSION:2.0
PRODID:-//La Pagina - ECPv5.5.0.1//NONSGML v1.0//EN
CALSCALE:GREGORIAN
METHOD:PUBLISH
X-WR-CALNAME:La Pagina
X-ORIGINAL-URL:https://lapagina.ch
X-WR-CALDESC:Events for La Pagina
BEGIN:VTIMEZONE
TZID:Europe/Zurich
BEGIN:DAYLIGHT
TZOFFSETFROM:+0100
TZOFFSETTO:+0200
TZNAME:CEST
DTSTART:20240331T010000
END:DAYLIGHT
BEGIN:STANDARD
TZOFFSETFROM:+0200
TZOFFSETTO:+0100
TZNAME:CET
DTSTART:20241027T010000
END:STANDARD
END:VTIMEZONE
BEGIN:VEVENT
DTSTART;TZID=Europe/Zurich:20240309T160000
DTEND;TZID=Europe/Zurich:20240309T160000
DTSTAMP:20260423T131242
CREATED:20240307T095431Z
LAST-MODIFIED:20240307T095431Z
UID:65490-1710000000-1710000000@lapagina.ch
SUMMARY:LIBERE DI DOVER PARTIRE di e con Mattia Lento e Manuela Ruggeri
DESCRIPTION:IN OCCASIONE DELLA GIORNATA INTERNAZIONALE DEI DIRITTI DELLE DONNE \nLIBERE DI DOVER PARTIRE\nDI MATTIA LENTO E MANUELA RUGGERI \nLa presenza femminile italiana in Svizzera tra storia e attualità attraverso 9 ritratti di donne \n\n\n\n\nDIALOGHEREMO CON: MAURIZIA R.SPENA-NUDM MANUELARUGGERI E MATTIA LENTO \n\nScarica qui il volantino
URL:https://lapagina.ch/eventi/libere-di-dover-partire-di-e-con-mattia-lento-e-manuela-ruggeri/
LOCATION:Casa delle Associazioni\, ERLKÖNIGWEG 30\, Basel\, Switzerland
END:VEVENT
END:VCALENDAR