BEGIN:VCALENDAR
VERSION:2.0
PRODID:-//La Pagina - ECPv5.5.0.1//NONSGML v1.0//EN
CALSCALE:GREGORIAN
METHOD:PUBLISH
X-WR-CALNAME:La Pagina
X-ORIGINAL-URL:https://lapagina.ch
X-WR-CALDESC:Events for La Pagina
BEGIN:VTIMEZONE
TZID:Europe/Zurich
BEGIN:DAYLIGHT
TZOFFSETFROM:+0100
TZOFFSETTO:+0200
TZNAME:CEST
DTSTART:20240331T010000
END:DAYLIGHT
BEGIN:STANDARD
TZOFFSETFROM:+0200
TZOFFSETTO:+0100
TZNAME:CET
DTSTART:20241027T010000
END:STANDARD
END:VTIMEZONE
BEGIN:VEVENT
DTSTART;TZID=Europe/Zurich:20240314T140000
DTEND;TZID=Europe/Zurich:20240314T154500
DTSTAMP:20260423T115809
CREATED:20240226T090319Z
LAST-MODIFIED:20240226T090319Z
UID:65373-1710424800-1710431100@lapagina.ch
SUMMARY:L'Iguana di Anna Maria Ortese
DESCRIPTION:L’Iguana di Anna Maria Ortese\nDr. Elisa Attanasio\, Università di Bologna \nLa lezione indagherà il primo romanzo di Ortese\, L’Iguana\, a partire dalla sua genesi e dai temi principali\, con un’attenzione particolare allo stile del testo. Sarà privilegiata infatti la lettura di alcuni brani dell’opera\, al fine di accedere in maniera più diretta al particolare stile e lavoro sulla lingua compiuto dall’autrice.
URL:https://lapagina.ch/eventi/liguana-di-anna-maria-ortese/
LOCATION:Università di Zurigo Aula KOL-H-317\, Rämistrasse 17\, Zurigo\, 8006\, Switzerland
END:VEVENT
END:VCALENDAR