BEGIN:VCALENDAR
VERSION:2.0
PRODID:-//La Pagina - ECPv5.5.0.1//NONSGML v1.0//EN
CALSCALE:GREGORIAN
METHOD:PUBLISH
X-WR-CALNAME:La Pagina
X-ORIGINAL-URL:https://lapagina.ch
X-WR-CALDESC:Events for La Pagina
BEGIN:VTIMEZONE
TZID:Europe/Helsinki
BEGIN:DAYLIGHT
TZOFFSETFROM:+0200
TZOFFSETTO:+0300
TZNAME:EEST
DTSTART:20190331T010000
END:DAYLIGHT
BEGIN:STANDARD
TZOFFSETFROM:+0300
TZOFFSETTO:+0200
TZNAME:EET
DTSTART:20191027T010000
END:STANDARD
END:VTIMEZONE
BEGIN:VEVENT
DTSTART;TZID=Europe/Helsinki:20190518T170000
DTEND;TZID=Europe/Helsinki:20190518T233000
DTSTAMP:20260424T124526
CREATED:20190508T081021Z
LAST-MODIFIED:20190508T081021Z
UID:52964-1558198800-1558222200@lapagina.ch
SUMMARY:"Matera\, un cammino lungo  novemila anni!"
DESCRIPTION:Dott.ssa De Toma \nDa inferno della “vergogna” a paradiso di capitale europea della cultura per il 2019 \norganizza: Società Dante Alighieri di Bienna \ndove: Sede\, Rue Centrale 125 “saletta info” \nIngresso: Fr. 12.- Fr. 5.- per soci\, studenti\, apprendisti\, diosccupati Libero per soci
URL:https://lapagina.ch/eventi/matera-un-cammino-lungo-novemila-anni/
LOCATION:Sede Rue Centrale 125 “saletta info”
CATEGORIES:Appuntamenti / Associazioni
END:VEVENT
END:VCALENDAR