BEGIN:VCALENDAR
VERSION:2.0
PRODID:-//La Pagina - ECPv5.5.0.1//NONSGML v1.0//EN
CALSCALE:GREGORIAN
METHOD:PUBLISH
X-WR-CALNAME:La Pagina
X-ORIGINAL-URL:https://lapagina.ch
X-WR-CALDESC:Events for La Pagina
BEGIN:VTIMEZONE
TZID:Europe/Zurich
BEGIN:DAYLIGHT
TZOFFSETFROM:+0100
TZOFFSETTO:+0200
TZNAME:CEST
DTSTART:20250330T010000
END:DAYLIGHT
BEGIN:STANDARD
TZOFFSETFROM:+0200
TZOFFSETTO:+0100
TZNAME:CET
DTSTART:20251026T010000
END:STANDARD
END:VTIMEZONE
BEGIN:VEVENT
DTSTART;TZID=Europe/Zurich:20250315T140000
DTEND;TZID=Europe/Zurich:20250330T180000
DTSTAMP:20260420T055722
CREATED:20250227T082847Z
LAST-MODIFIED:20250227T082847Z
UID:66693-1742047200-1743357600@lapagina.ch
SUMMARY:Mostra: CELESTE bambina nascosta
DESCRIPTION:Centro per la Prevenzione delle Discriminazioni\, Amnesty International\, Fondazione Diritti Umani Lugano\, FRASI\, Lugano Cinema 93 e Studio It’s \norganizzano \nCELESTE bambina nascosta \nMostra basata sul fumetto “Celeste: bambina nascosta” di Pierdomenico Fortune e Cecilia Bozzoli\, che narra la storia di una bambina nascosta in Svizzera negli anni ‘60\, figlia di lavoratori stagionali italiani che non avevano il diritto di portare con se i propri figli. \n\n\n\nCon un adattamento parziale del progetto di arte urbana Welcome\, un abbraccio contro il razzismo\, curato da Ricardo Torres e realizzato dall’associazione REC. \nOrari d’apertura al pubblico \nGiovedì e venerdì dalle 14:00 alle 18:00 Sabato e domenica dalle 10:00 alle 18:00 \nBiglietti 1.- CHF\nGratuito per studenti\, AVS/AI\, detentori ParadisoCARD\, chiunque viva in situazione di difficoltà economica. \nVisite guidate per le scuole \nGiovedì e venerdì dalle 10:00 alle 12:00\, solo su prenotazione. Prenotazioni\, biglietti e informazioni a: info@azionepostiliberi.ch \nScarica qui il volantino
URL:https://lapagina.ch/eventi/mostra-celeste-bambina-nascosta/
LOCATION:Sala Multiuso di Parco Guidino Paradiso\, Paradiso\, 6900\, Switzerland
END:VEVENT
END:VCALENDAR