BEGIN:VCALENDAR
VERSION:2.0
PRODID:-//La Pagina - ECPv5.5.0.1//NONSGML v1.0//EN
CALSCALE:GREGORIAN
METHOD:PUBLISH
X-WR-CALNAME:La Pagina
X-ORIGINAL-URL:https://lapagina.ch
X-WR-CALDESC:Events for La Pagina
BEGIN:VTIMEZONE
TZID:Europe/Helsinki
BEGIN:DAYLIGHT
TZOFFSETFROM:+0200
TZOFFSETTO:+0300
TZNAME:EEST
DTSTART:20190331T010000
END:DAYLIGHT
BEGIN:STANDARD
TZOFFSETFROM:+0300
TZOFFSETTO:+0200
TZNAME:EET
DTSTART:20191027T010000
END:STANDARD
END:VTIMEZONE
BEGIN:VEVENT
DTSTART;TZID=Europe/Helsinki:20190428T150000
DTEND;TZID=Europe/Helsinki:20190428T223000
DTSTAMP:20260425T045711
CREATED:20190306T103918Z
LAST-MODIFIED:20190306T103918Z
UID:51828-1556463600-1556490600@lapagina.ch
SUMMARY:Nicoletta Bortolotti  "Chiamami sottovoce"
DESCRIPTION:organizza: Le colonie Libere Italiane di: Basilea\, Möhlin\, Muttenz Rheinfelden e Stein \ndove: Quartiertreffpunkt Lola Basilea
URL:https://lapagina.ch/eventi/nicoletta-bortolotti-chiamami-sottovoce/
LOCATION:Quartiertreffpunkt Lola\, Lothringerstrasse 63\, Basel\, Svizzera
CATEGORIES:Appuntamenti / Associazioni
END:VEVENT
END:VCALENDAR