BEGIN:VCALENDAR
VERSION:2.0
PRODID:-//La Pagina - ECPv5.5.0.1//NONSGML v1.0//EN
CALSCALE:GREGORIAN
METHOD:PUBLISH
X-WR-CALNAME:La Pagina
X-ORIGINAL-URL:https://lapagina.ch
X-WR-CALDESC:Events for La Pagina
BEGIN:VTIMEZONE
TZID:Europe/Zurich
BEGIN:DAYLIGHT
TZOFFSETFROM:+0100
TZOFFSETTO:+0200
TZNAME:CEST
DTSTART:20240331T010000
END:DAYLIGHT
BEGIN:STANDARD
TZOFFSETFROM:+0200
TZOFFSETTO:+0100
TZNAME:CET
DTSTART:20241027T010000
END:STANDARD
END:VTIMEZONE
BEGIN:VEVENT
DTSTART;TZID=Europe/Zurich:20240106T190000
DTEND;TZID=Europe/Zurich:20241228T190000
DTSTAMP:20260424T022837
CREATED:20240108T080643Z
LAST-MODIFIED:20240108T080643Z
UID:65231-1704567600-1735412400@lapagina.ch
SUMMARY:Nuovi orari: Discorsi biblici
DESCRIPTION:A partire da gennaio 2024 le riunioni in lingua italiana dei Testimoni di Geova a Zurigo si terranno di sabato sera alle ore 19:00. Come di consueto\, il programma inizierà con un discorso biblico della durata di 30 minuti che illustra come le Scritture sono pratiche per la nostra vita e per i tempi in cui viviamo. L’ingresso è aperto al pubblico e non si fanno collette. \nPer assistere tramite videoconferenza richiedi l’accesso: +41 77 814 89 86
URL:https://lapagina.ch/eventi/nuovi-orari-discorsi-biblici/
LOCATION:Sala del Regno dei Testimoni di Geova\, Zurlindenstrasse 82\, Zurigo\, Svizzera
END:VEVENT
END:VCALENDAR