BEGIN:VCALENDAR
VERSION:2.0
PRODID:-//La Pagina - ECPv5.5.0.1//NONSGML v1.0//EN
CALSCALE:GREGORIAN
METHOD:PUBLISH
X-WR-CALNAME:La Pagina
X-ORIGINAL-URL:https://lapagina.ch
X-WR-CALDESC:Events for La Pagina
BEGIN:VTIMEZONE
TZID:Europe/Zurich
BEGIN:DAYLIGHT
TZOFFSETFROM:+0100
TZOFFSETTO:+0200
TZNAME:CEST
DTSTART:20250330T010000
END:DAYLIGHT
BEGIN:STANDARD
TZOFFSETFROM:+0200
TZOFFSETTO:+0100
TZNAME:CET
DTSTART:20251026T010000
END:STANDARD
END:VTIMEZONE
BEGIN:VEVENT
DTSTART;TZID=Europe/Zurich:20250116T150000
DTEND;TZID=Europe/Zurich:20250116T163000
DTSTAMP:20260420T141447
CREATED:20241125T082613Z
LAST-MODIFIED:20241125T082613Z
UID:66413-1737039600-1737045000@lapagina.ch
SUMMARY:Pomeriggio sociale informativo per coloro che sono proprietari di immobili in Italia
DESCRIPTION:Confedilizia italiana in Svizzera e Comites di Zurigo\norganizzano\nPomeriggio sociale informativo per coloro che sono proprietari di immobili in Italia \n\n\n\n\nPresentazione a cura della Coordinatrice della Commissione sociale del Comites Dott.ssa Cristina Luciani Vogel \n\nPresentazione e funzione della Confedilizia italiana all’estero\nLegge salva casa e sue applicazioni\nIMU e TARI oggi imposte pretese e non dovute richiesta di rimborso\nUtenze problematiche per coloro che abitano all’estero e contenzioso\n\n\n\n\n\nReferenti: \nDott.Paolo Gasparini\nrappresentante Confedilizia italiana in Svizzera \nGeom.Corrado Mascetti\nPresidente dell’ordine dei geometri di Como \n\n\n\n\n\n\n\n\nL’incontro è gratuito. Vi aspettiamo numerosi! \nScarica qui il volantino
URL:https://lapagina.ch/eventi/pomeriggio-sociale-informativo-per-coloro-che-sono-proprietari-di-immobili-in-italia/
LOCATION:Parrocchia Don Bosco MCLI\, Feldstrasse 109\, Zurigo\, 8004
END:VEVENT
END:VCALENDAR