BEGIN:VCALENDAR
VERSION:2.0
PRODID:-//La Pagina - ECPv5.5.0.1//NONSGML v1.0//EN
CALSCALE:GREGORIAN
METHOD:PUBLISH
X-WR-CALNAME:La Pagina
X-ORIGINAL-URL:https://lapagina.ch
X-WR-CALDESC:Events for La Pagina
BEGIN:VTIMEZONE
TZID:Europe/Zurich
BEGIN:DAYLIGHT
TZOFFSETFROM:+0100
TZOFFSETTO:+0200
TZNAME:CEST
DTSTART:20230326T010000
END:DAYLIGHT
BEGIN:STANDARD
TZOFFSETFROM:+0200
TZOFFSETTO:+0100
TZNAME:CET
DTSTART:20231029T010000
END:STANDARD
END:VTIMEZONE
BEGIN:VEVENT
DTSTART;TZID=Europe/Zurich:20231027T184500
DTEND;TZID=Europe/Zurich:20231027T184500
DTSTAMP:20260424T110003
CREATED:20231020T063947Z
LAST-MODIFIED:20231020T063947Z
UID:64862-1698432300-1698432300@lapagina.ch
SUMMARY:Presentazione di "LIBERE DI DOVER PARTIRE"
DESCRIPTION:Il Comites di Zurigo è lieto di invitarVi alla serata di presentazione del documentario multimediale \n“LIBERE DI DOVER PARTIRE” di Manuela Ruggeri e Mattia Lento. \nIl progetto nasce da un’idea del Comites di Zurigo e si concretizza grazie al congruo contributo del Ministero degli Affari Esteri. \nL’obiettivo è quello di raccontare l’emigrazione italiana in Svizzera di ieri e di oggi dal punto di vista femminile\, utilizzando una forma di comunicazione moderna e fruibile in modo leggero ed autonomo. \nSALUTI: \nComites di Zurigo \nMin. Gabriele Altana\, Console Generale d’Italia in Zurigo \nILLUSTRAZIONE DEL PROGETTO \nMattia Lento\, giornalista\, storico del cinema e autore \nAL TERMINE SARÀ OFFERTO UN APERITIVO \nEntrata libera \nE’ gradita la prenotazione entro il 20.10.2023 presso info@comiteszurigo.ch oppure Tel. 044 291 27 88
URL:https://lapagina.ch/eventi/presentazione-di-libere-di-dover-partire/
LOCATION:Liceo Artistico di Zurigo\, Parkring 30\, Zurigo\, 8002
ORGANIZER;CN="Comites%20Zurigo":MAILTO:info@comiteszurigo.ch
END:VEVENT
END:VCALENDAR