BEGIN:VCALENDAR
VERSION:2.0
PRODID:-//La Pagina - ECPv5.5.0.1//NONSGML v1.0//EN
CALSCALE:GREGORIAN
METHOD:PUBLISH
X-WR-CALNAME:La Pagina
X-ORIGINAL-URL:https://lapagina.ch
X-WR-CALDESC:Events for La Pagina
BEGIN:VTIMEZONE
TZID:Europe/Helsinki
BEGIN:DAYLIGHT
TZOFFSETFROM:+0200
TZOFFSETTO:+0300
TZNAME:EEST
DTSTART:20190331T010000
END:DAYLIGHT
BEGIN:STANDARD
TZOFFSETFROM:+0300
TZOFFSETTO:+0200
TZNAME:EET
DTSTART:20191027T010000
END:STANDARD
END:VTIMEZONE
BEGIN:VEVENT
DTSTART;TZID=Europe/Helsinki:20190322T193000
DTEND;TZID=Europe/Helsinki:20190322T233000
DTSTAMP:20260426T020823
CREATED:20190321T105713Z
LAST-MODIFIED:20190321T105713Z
UID:52145-1553283000-1553297400@lapagina.ch
SUMMARY:prof. Dr. med. Alex Alfieri "Mal di schiena...e poi?"
DESCRIPTION:organizza: UNITRE Winterthur \ndove: Vecchia caserma\, Seminarsaal 1° piano \nSeguirà un rinfresco \nIngresso libero \n(anche i non iscritti all’UNITRE sono cordialmente invitati)
URL:https://lapagina.ch/eventi/prof-dr-med-alex-alfieri-mal-di-schiena-e-poi/
LOCATION:Vecchia caserma\, Technikumstrasse 8\, Winterthur\, Svizzera
CATEGORIES:Appuntamenti / Associazioni
END:VEVENT
END:VCALENDAR