BEGIN:VCALENDAR
VERSION:2.0
PRODID:-//La Pagina - ECPv5.5.0.1//NONSGML v1.0//EN
CALSCALE:GREGORIAN
METHOD:PUBLISH
X-WR-CALNAME:La Pagina
X-ORIGINAL-URL:https://lapagina.ch
X-WR-CALDESC:Events for La Pagina
BEGIN:VTIMEZONE
TZID:Europe/Zurich
BEGIN:DAYLIGHT
TZOFFSETFROM:+0100
TZOFFSETTO:+0200
TZNAME:CEST
DTSTART:20230326T010000
END:DAYLIGHT
BEGIN:STANDARD
TZOFFSETFROM:+0200
TZOFFSETTO:+0100
TZNAME:CET
DTSTART:20231029T010000
END:STANDARD
END:VTIMEZONE
BEGIN:VEVENT
DTSTART;TZID=Europe/Zurich:20231109T190000
DTEND;TZID=Europe/Zurich:20231112T190000
DTSTAMP:20260424T081547
CREATED:20231020T081124Z
LAST-MODIFIED:20231020T081124Z
UID:64879-1699556400-1699815600@lapagina.ch
SUMMARY:Proiezione del film "Il Colore del dolore" di Francesco Benigno
DESCRIPTION:PROIEZIONE DEL FILM \nIL COLORE DEL DOLORE \nDI E CON FRANCESCO BENIGNO \nCon la presenza di Francesco Benigno in sala\nConduce: Bruno Indelicato \nIl film racconta le vicende e gli sviluppi di un ragazzo che diventa uomo\, in un quartiere degradato di Palermo. Un riscatto personale che il ragazzo riesce a compiere nonostante le innumerevoli avversità che la vita gli offre. \nCaves\, dalla Società Dante Alighieri Cantone Svitto in collaborazione con la Missione Cattolica di Lachen\,  Società Dante Alighieri di Lucerna\ne dalla Società Cooperativa di Winterthur. \n\n\n\n\n\nZURIGO\n9 novembre 2023 | ore 19 Liceo Artistico\nParkring 30 | 8002 Zurigo \nWINTERTHUR\n10 novembre 2023 | ore 19 Centro Parrochiale San Francesco\, St. Gallerstr. 18 | 8400 Winterthur \nLUCERNA\n11 novembre 2023 | ore 18 Wäsmeli Träff\nLandschaustr. 6 | 6006 Lucerna \nLACHEN\n12 novembre 2023 | ore 17 Società Dante-Alighieri\nCantone Svitto in collaborazione con la Missione Cattolica di Lachen Kath. Pfarreizentrum\nKirchweg 1 | 8853 Lachen \nScarica qui il volantino
URL:https://lapagina.ch/eventi/proiezione-del-film-il-colore-del-dolore-di-francesco-benigno/
END:VEVENT
END:VCALENDAR