BEGIN:VCALENDAR
VERSION:2.0
PRODID:-//La Pagina - ECPv5.5.0.1//NONSGML v1.0//EN
CALSCALE:GREGORIAN
METHOD:PUBLISH
X-WR-CALNAME:La Pagina
X-ORIGINAL-URL:https://lapagina.ch
X-WR-CALDESC:Events for La Pagina
BEGIN:VTIMEZONE
TZID:Europe/Zurich
BEGIN:DAYLIGHT
TZOFFSETFROM:+0100
TZOFFSETTO:+0200
TZNAME:CEST
DTSTART:20230326T010000
END:DAYLIGHT
BEGIN:STANDARD
TZOFFSETFROM:+0200
TZOFFSETTO:+0100
TZNAME:CET
DTSTART:20231029T010000
END:STANDARD
END:VTIMEZONE
BEGIN:VEVENT
DTSTART;TZID=Europe/Zurich:20230331T180000
DTEND;TZID=Europe/Zurich:20230331T180000
DTSTAMP:20260419T173416
CREATED:20230328T064956Z
LAST-MODIFIED:20230328T064956Z
UID:64141-1680285600-1680285600@lapagina.ch
SUMMARY:Proiezione di "Fuocoammare" a Lugano
DESCRIPTION:Il Circolo Acli di Lugano invita i soci e i cittadini tutti a partecipare alla\nProiezione di “Fuocoammare”   – il docufilm che racconta cio’ che accade sull’isola siciliana di Lampedusa\, epicentro della crisi europea dei migranti\, per comprendere l’entità e le conseguenze del fenomeno sullo sfondo della vita ordinaria degli isolani\n\nA seguire il giornalista Francesco Muratori condurrà un breve dibattito in cui interverrà l’ospite della serata – il videomaker Mauro Triani – e inviterà i presenti a riflettere sui temi emersi nella visione del film.\n\nIl circolo Acli di Lugano con queste iniziative desidera promuovere la coesistenza fra i cittadini all’insegna dei valori democratici\, di solidarietà\, di tolleranza\, conoscenza reciproca e rispetto per la diversità e combattere l’accettazione della normalizzazione del razzismo e della xenofobia nei discorsi e nelle dinamiche sociali della vita quotidiana.\n\nIngresso libero\n\nScarica qui il volantino
URL:https://lapagina.ch/eventi/proiezione-di-fuocoammare-a-lugano/
LOCATION:Sede Acli di Lugano\, Via Simen 10\, Lugano\, Switzerland
ORGANIZER;CN="ACLI%20di%20Lugano":MAILTO:aclilugano@bluewin.ch
END:VEVENT
END:VCALENDAR