BEGIN:VCALENDAR
VERSION:2.0
PRODID:-//La Pagina - ECPv5.5.0.1//NONSGML v1.0//EN
CALSCALE:GREGORIAN
METHOD:PUBLISH
X-WR-CALNAME:La Pagina
X-ORIGINAL-URL:https://lapagina.ch
X-WR-CALDESC:Events for La Pagina
BEGIN:VTIMEZONE
TZID:Europe/Zurich
BEGIN:DAYLIGHT
TZOFFSETFROM:+0100
TZOFFSETTO:+0200
TZNAME:CEST
DTSTART:20240331T010000
END:DAYLIGHT
BEGIN:STANDARD
TZOFFSETFROM:+0200
TZOFFSETTO:+0100
TZNAME:CET
DTSTART:20241027T010000
END:STANDARD
END:VTIMEZONE
BEGIN:VEVENT
DTSTART;TZID=Europe/Zurich:20240524T180000
DTEND;TZID=Europe/Zurich:20240525T100000
DTSTAMP:20260421T213933
CREATED:20240517T075759Z
LAST-MODIFIED:20240517T075759Z
UID:65783-1716573600-1716631200@lapagina.ch
SUMMARY:Proiezione di NON FAR RUMORE
DESCRIPTION:La Fondazione Margherita per la cultura italiana e La Colonia Libera Italiana di Losanna invitano alla proiezione di \nNON FAR RUMORE\n“La storia dimenticata dei bambini nascosti” \nDocufilm di Alessandra Rossi e Mario Maellaro \nVenerdì 24 maggio a Sion\, Aula Lycée-Collège La Planta alle ore 18.00 \nSabato 25 maggio a Pully\, Cinéma CityClub alle ore 10.00 \nEntrata gratis \nSegue dibattito in italiano e in francese con Alessandra Rossi\, giornalista RAI \nScarica qui il volantino
URL:https://lapagina.ch/eventi/proiezione-di-non-far-rumore-2/
END:VEVENT
END:VCALENDAR