BEGIN:VCALENDAR
VERSION:2.0
PRODID:-//La Pagina - ECPv5.5.0.1//NONSGML v1.0//EN
CALSCALE:GREGORIAN
METHOD:PUBLISH
X-WR-CALNAME:La Pagina
X-ORIGINAL-URL:https://lapagina.ch
X-WR-CALDESC:Events for La Pagina
BEGIN:VTIMEZONE
TZID:Europe/Zurich
BEGIN:DAYLIGHT
TZOFFSETFROM:+0100
TZOFFSETTO:+0200
TZNAME:CEST
DTSTART:20240331T010000
END:DAYLIGHT
BEGIN:STANDARD
TZOFFSETFROM:+0200
TZOFFSETTO:+0100
TZNAME:CET
DTSTART:20241027T010000
END:STANDARD
END:VTIMEZONE
BEGIN:VEVENT
DTSTART;TZID=Europe/Zurich:20240528T161500
DTEND;TZID=Europe/Zurich:20240528T161500
DTSTAMP:20260421T181728
CREATED:20240226T091718Z
LAST-MODIFIED:20240226T091718Z
UID:65409-1716912900-1716912900@lapagina.ch
SUMMARY:Prospettive di ricerca AISdt: il caso di Antronapiana
DESCRIPTION:Prospettive di ricerca AISdt: il caso di Antronapiana\nLisa Gasner e Adriano Salvi \nll progetto «AIS\, the digital turn» (AISdt)\, finanziato dal Fondo Nazionale Svizzero per la Ricerca Scientifica [SNF 100012-192259/1]\, ha come obiettivo quello di mettere a disposizione dei ricercatori due grandi serie di dati linguistici raccolti e rielaborati a quasi 100 anni di distanza. Da un lato si intende infatti fornire una versione digitale e interrogabile dell’intero AIS\, dall’altro verrà costantemente implementata la banca dati liberamente consultabile in rete AIS\, reloaded(AISr) con nuovo materiale linguistico raccolto sul campo.\nL’intervento mira a illustrare le potenzialità dell’AISr come strumento di ricerca. Attraverso lo studio del dialetto lombardo-alpino di Antronapiana (AIS 115; Nicolet 1929) e con il fine di analizzare l’evoluzione diacronica di questa varietà nell’ultimo secolo\, si offrirà un confronto dei dati AIS con quelli odierni in relazione a diversi livelli di analisi (fonetica e fonologia\, morfologia\, sintassi e lessico).
URL:https://lapagina.ch/eventi/prospettive-di-ricerca-aisdt-il-caso-di-antronapiana/
LOCATION:Università di Zurigo Aula ZUG-U-D31\, Zürichbergstrasse 8\, Zurigo\, 8032\, Switzerland
END:VEVENT
END:VCALENDAR