BEGIN:VCALENDAR
VERSION:2.0
PRODID:-//La Pagina - ECPv5.5.0.1//NONSGML v1.0//EN
CALSCALE:GREGORIAN
METHOD:PUBLISH
X-WR-CALNAME:La Pagina
X-ORIGINAL-URL:https://lapagina.ch
X-WR-CALDESC:Events for La Pagina
BEGIN:VTIMEZONE
TZID:Europe/Zurich
BEGIN:DAYLIGHT
TZOFFSETFROM:+0100
TZOFFSETTO:+0200
TZNAME:CEST
DTSTART:20230326T010000
END:DAYLIGHT
BEGIN:STANDARD
TZOFFSETFROM:+0200
TZOFFSETTO:+0100
TZNAME:CET
DTSTART:20231029T010000
END:STANDARD
END:VTIMEZONE
BEGIN:VEVENT
DTSTART;TZID=Europe/Zurich:20230626T200000
DTEND;TZID=Europe/Zurich:20230626T200000
DTSTAMP:20260424T211128
CREATED:20230623T063138Z
LAST-MODIFIED:20230623T063138Z
UID:64542-1687809600-1687809600@lapagina.ch
SUMMARY:Riunione plenaria del Com.It.Es. di Zurigo
DESCRIPTION:È convocata la riunione plenaria del Com.It.Es. di Zurigo che si terrà \nLunedì 26 giugno 2023\, alle ore 20.00 \npresso il locale della Gemeinde Christi al 1° piano sotterraneo della Sihlquai 253\, 8005 Zurigo I punti all’ordine del giorno sono i seguenti: \n\nComunicazioni della Presidenza;\nApprovazione del verbale del plenum del 18.04.2023;\nDelibera definizione progetto “Servizio telematico per la comunità”;\nQuesiti rivolti al Console Generale:\n– Accredito saldo finanziamento 3103 e 3106/2023\n– Esito richiesta finanziamento integrativo 3103/2023 – Aggiornamento stato lavori Casa d’Italia\n– Divulgazione trailers già realizzati;\nResoconto operato Commissioni Comites nei primi 6 mesi del 2023 ed eventuali iniziative in programma;\nGli interessati ad assistere alla riunione sono pregati di annunciarsi alla segreteria entro le ore 13.00 di lunedì 26 giugno.
URL:https://lapagina.ch/eventi/riunione-plenaria-del-com-it-es-di-zurigo-12/
LOCATION:Gemeinde Christi Zurigo\, Sihlquai 253\, Zurigo\, 8005
ORGANIZER;CN="Comites%20Zurigo":MAILTO:info@comiteszurigo.ch
END:VEVENT
END:VCALENDAR