BEGIN:VCALENDAR
VERSION:2.0
PRODID:-//La Pagina - ECPv5.5.0.1//NONSGML v1.0//EN
CALSCALE:GREGORIAN
METHOD:PUBLISH
X-WR-CALNAME:La Pagina
X-ORIGINAL-URL:https://lapagina.ch
X-WR-CALDESC:Events for La Pagina
BEGIN:VTIMEZONE
TZID:Europe/Zurich
BEGIN:DAYLIGHT
TZOFFSETFROM:+0100
TZOFFSETTO:+0200
TZNAME:CEST
DTSTART:20250330T010000
END:DAYLIGHT
BEGIN:STANDARD
TZOFFSETFROM:+0200
TZOFFSETTO:+0100
TZNAME:CET
DTSTART:20251026T010000
END:STANDARD
END:VTIMEZONE
BEGIN:VEVENT
DTSTART;TZID=Europe/Zurich:20250623T200000
DTEND;TZID=Europe/Zurich:20250623T211500
DTSTAMP:20260419T173019
CREATED:20250620T130918Z
LAST-MODIFIED:20250620T130918Z
UID:67019-1750708800-1750713300@lapagina.ch
SUMMARY:Riunione plenaria del Com.It.Es. di Zurigo
DESCRIPTION:È convocata la riunione plenaria del Com.It.Es. di Zurigo che si terrà \nLunedì 23 giugno 2025\, dalle ore 20.00 alle ore 21.15 ca. in videoconferenza zoom \nI punti all’ordine del giorno sono i seguenti: \n\nComunicazioni presidenza;\nApprovazione verbale del plenum del 15.04.2025;\nApprovazione richiesta di finanziamento integrativo per funzionamento Cap. 3103/2025\nApprovazione richiesta di finanziamento integrativo per il progetto a favore della comunità “Conosciamo la Calabria. Un viaggio alla scoperta dell’eredità culturale calabrese” \n\nGli interessati ad assistere alla riunione online sono pregati di annunciarsi alla segreteria entro le ore 13.00 di lunedì 23 giugno. \n 
URL:https://lapagina.ch/eventi/riunione-plenaria-del-com-it-es-di-zurigo-16/
END:VEVENT
END:VCALENDAR